BEGIN:VCALENDAR
VERSION:2.0
PRODID:-//Prince William County Democrats - ECPv6.15.20//NONSGML v1.0//EN
CALSCALE:GREGORIAN
METHOD:PUBLISH
X-ORIGINAL-URL:https://www.princewilliamdemocrats.com
X-WR-CALDESC:Events for Prince William County Democrats
REFRESH-INTERVAL;VALUE=DURATION:PT1H
X-Robots-Tag:noindex
X-PUBLISHED-TTL:PT1H
BEGIN:VTIMEZONE
TZID:UTC
BEGIN:STANDARD
TZOFFSETFROM:+0000
TZOFFSETTO:+0000
TZNAME:UTC
DTSTART:20220101T000000
END:STANDARD
END:VTIMEZONE
BEGIN:VEVENT
DTSTART;TZID=UTC:20230422T130000
DTEND;TZID=UTC:20230422T143000
DTSTAMP:20260421T004828
CREATED:20230419T013343Z
LAST-MODIFIED:20230419T013343Z
UID:10001334-1682168400-1682173800@www.princewilliamdemocrats.com
SUMMARY:Jennifer Carroll Foy Office Opening Party
DESCRIPTION:For More Details: Click Here \nJoin Jennifer Carroll Foy and friends to celebrate the opening of our coordinated campaign HQ in Woodbridge! Come show your support\, hear from community leaders on why they’re supporting Jennifer\, and learn how you can take action to fuel our campaign.
URL:https://www.princewilliamdemocrats.com/event/2023-04-22-1pm-jennifer-carroll-foy-office-opening-party/
CATEGORIES:Prince William County Democratic Event
ATTACH;FMTTYPE=image/jpeg:https://www.princewilliamdemocrats.com/wp-content/uploads/2023/04/2023-jennifer-carroll-foy-office-opening-party.jpg
END:VEVENT
BEGIN:VEVENT
DTSTART;TZID=UTC:20230422T160000
DTEND;TZID=UTC:20230422T180000
DTSTAMP:20260421T004828
CREATED:20230419T012738Z
LAST-MODIFIED:20230419T012820Z
UID:10001332-1682179200-1682186400@www.princewilliamdemocrats.com
SUMMARY:Travis Nembhard For Delegate Campaign Kick-Off
DESCRIPTION:For More Details: Click Here \nTravis Nembhard is a recognized attorney and former judge\, but he is first and foremost a family man raising his two sons with his wife in the Bristow community. He seeks to be the voice for our families and is running to represent Prince William County residents in the VA House of Delegates’ 22nd District. \nWe invite you to join Travis and his family for a Campaign Launch on April 22\, 2023 from 4-6pm\, as he discusses his plans for the campaign\, his policy positions\, and how you can further help the campaign secure the District 22 seat. \nCan we count on your support to get Travis to Richmond?
URL:https://www.princewilliamdemocrats.com/event/2023-04-22-6pm-travis-nembhard-for-delegate-campaign-kick-off/
CATEGORIES:Prince William County Democratic Event
ATTACH;FMTTYPE=image/jpeg:https://www.princewilliamdemocrats.com/wp-content/uploads/2023/04/2023-travis-nembhard-for-delegate.jpg
END:VEVENT
END:VCALENDAR