BEGIN:VCALENDAR
VERSION:2.0
PRODID:-//Prince William County Democrats - ECPv6.15.20//NONSGML v1.0//EN
CALSCALE:GREGORIAN
METHOD:PUBLISH
X-ORIGINAL-URL:https://www.princewilliamdemocrats.com
X-WR-CALDESC:Events for Prince William County Democrats
REFRESH-INTERVAL;VALUE=DURATION:PT1H
X-Robots-Tag:noindex
X-PUBLISHED-TTL:PT1H
BEGIN:VTIMEZONE
TZID:UTC
BEGIN:STANDARD
TZOFFSETFROM:+0000
TZOFFSETTO:+0000
TZNAME:UTC
DTSTART:20220101T000000
END:STANDARD
END:VTIMEZONE
BEGIN:VEVENT
DTSTART;TZID=UTC:20230418T180000
DTEND;TZID=UTC:20230418T200000
DTSTAMP:20260421T005751
CREATED:20230419T012404Z
LAST-MODIFIED:20230419T012404Z
UID:10001330-1681840800-1681848000@www.princewilliamdemocrats.com
SUMMARY:Re-Elect Jacqueline C. Smith Anniversary Fundraiser
DESCRIPTION:For More Details: Click Here \nJoin me for dinner on April 18th as we celebrate my election anniversary! It was six years ago that we all came together after the intense and exhausting campaign that started it all. Enjoy dinner and drinks with friends as we fundraise for our next big win in 2023!
URL:https://www.princewilliamdemocrats.com/event/2023-04-18-6pm-re-elect-jacqueline-c-smith-anniversary-fundraiser/
CATEGORIES:Prince William County Democratic Event
ATTACH;FMTTYPE=image/jpeg:https://www.princewilliamdemocrats.com/wp-content/uploads/2023/04/2023-jacqueline-smith-for-clerk-of-circuit-court.jpg
END:VEVENT
END:VCALENDAR