BEGIN:VCALENDAR
VERSION:2.0
PRODID:-//Prince William County Democrats - ECPv6.15.20//NONSGML v1.0//EN
CALSCALE:GREGORIAN
METHOD:PUBLISH
X-WR-CALNAME:Prince William County Democrats
X-ORIGINAL-URL:https://www.princewilliamdemocrats.com
X-WR-CALDESC:Events for Prince William County Democrats
REFRESH-INTERVAL;VALUE=DURATION:PT1H
X-Robots-Tag:noindex
X-PUBLISHED-TTL:PT1H
BEGIN:VTIMEZONE
TZID:UTC
BEGIN:STANDARD
TZOFFSETFROM:+0000
TZOFFSETTO:+0000
TZNAME:UTC
DTSTART:20220101T000000
END:STANDARD
END:VTIMEZONE
BEGIN:VEVENT
DTSTART;TZID=UTC:20230415T100000
DTEND;TZID=UTC:20230415T110000
DTSTAMP:20260421T004835
CREATED:20230329T213921Z
LAST-MODIFIED:20230329T213921Z
UID:10001634-1681552800-1681556400@www.princewilliamdemocrats.com
SUMMARY:Woodbridge District Monthly Meeting
DESCRIPTION:Please contact Woodbridge District Leadership for additional details.
URL:https://www.princewilliamdemocrats.com/event/2023-04-15-10am-woodbridge-district-monthly-meeting-2/
LOCATION:Virtual Event
CATEGORIES:District Meeting
ATTACH;FMTTYPE=image/jpeg:https://www.princewilliamdemocrats.com/wp-content/uploads/2021/02/democratic-monthly-meeting.jpg
END:VEVENT
BEGIN:VEVENT
DTSTART;TZID=UTC:20230415T100000
DTEND;TZID=UTC:20230415T113000
DTSTAMP:20260421T004835
CREATED:20230329T213646Z
LAST-MODIFIED:20230415T123200Z
UID:10001633-1681552800-1681558200@www.princewilliamdemocrats.com
SUMMARY:Potomac District Monthly Meeting
DESCRIPTION:Please contact Potomac District Leadership for additional details.
URL:https://www.princewilliamdemocrats.com/event/2023-04-15-10am-potomac-district-monthly-meeting-3/
CATEGORIES:District Meeting
ATTACH;FMTTYPE=image/jpeg:https://www.princewilliamdemocrats.com/wp-content/uploads/2021/02/democratic-monthly-meeting.jpg
END:VEVENT
BEGIN:VEVENT
DTSTART;TZID=UTC:20230415T100000
DTEND;TZID=UTC:20230415T120000
DTSTAMP:20260421T004835
CREATED:20230331T173057Z
LAST-MODIFIED:20230331T173057Z
UID:10001328-1681552800-1681560000@www.princewilliamdemocrats.com
SUMMARY:Bristow Meet and Greet with Deshundra Jefferson
DESCRIPTION:For More Details: Click Here\n\n \n\nPut on your walking shoes to help #ElectDeshundra. We will be knocking doors in Bristow to connect with voters.\n\n \n\nWear comfortable walking shoes and dress appropriately for the weather that day. Please download the MiniVan app ahead of time.\n\n \n\nWe’ll provide training and everything else you need to feel confident talking to voters.
URL:https://www.princewilliamdemocrats.com/event/2023-04-15-10am-bristow-meet-and-greet-with-deshundra-jefferson/
CATEGORIES:Prince William County Democratic Event
ATTACH;FMTTYPE=image/png:https://www.princewilliamdemocrats.com/wp-content/uploads/2023/03/2023-bristow-meet-and-greet-with-deshundra.png
END:VEVENT
BEGIN:VEVENT
DTSTART;TZID=UTC:20230415T100000
DTEND;TZID=UTC:20230415T170000
DTSTAMP:20260421T004835
CREATED:20230331T171625Z
LAST-MODIFIED:20230331T171625Z
UID:10001327-1681552800-1681578000@www.princewilliamdemocrats.com
SUMMARY:Come Canvass with Black Caucus and Dem Candidates!
DESCRIPTION:For More Details: Click Here\n\n \n\nJoin Amy Ashworth\, The Democratic Black Caucus\, and our County-Wide candidates for a canvass launch on Saturday\, April 15th!\n\n \n\nWe’ll see you there!
URL:https://www.princewilliamdemocrats.com/event/2023-04-15-10am-come-canvass-with-black-caucus-and-dem-candidates/
CATEGORIES:Prince William County Democratic Event
ATTACH;FMTTYPE=image/png:https://www.princewilliamdemocrats.com/wp-content/uploads/2023/03/constitutional-canidates-black-committee.png
END:VEVENT
BEGIN:VEVENT
DTSTART;TZID=UTC:20230415T190000
DTEND;TZID=UTC:20230415T210000
DTSTAMP:20260421T004835
CREATED:20230427T003634Z
LAST-MODIFIED:20230427T003634Z
UID:10001638-1681585200-1681592400@www.princewilliamdemocrats.com
SUMMARY:2023 Idris OConnor Campaign Kickoff
DESCRIPTION:For More Details: Click Here \nJoin us for our campaign kickoff: \nSaturday April 15\, 2023\, 7:00 PM \n12606 Stone Lined Circle\, Woodbridge\, VA 22192 \nJoin Delegate Briana Sewell\, Coles District School Board Representative Lisa Zargarpur\, and community leaders in supporting Idris’s campaign for Coles District Supervisor. \nYou can bring cash to the event. \nWant to mail a check? Please send it directly to our campaign: \n  \nIdris for Supervisor \n3360 Post Office Road #1604 \nWoodbridge\, Virginia 22195
URL:https://www.princewilliamdemocrats.com/event/2023-04-15-7pm-idris-oconnor-campaign-kickoff/
CATEGORIES:Prince William County Democratic Event
ATTACH;FMTTYPE=image/png:https://www.princewilliamdemocrats.com/wp-content/uploads/2023/04/2023-idris-oconnor-campaign-kickoff.png
END:VEVENT
END:VCALENDAR