BEGIN:VCALENDAR
VERSION:2.0
PRODID:-//Prince William County Democrats - ECPv6.15.20//NONSGML v1.0//EN
CALSCALE:GREGORIAN
METHOD:PUBLISH
X-ORIGINAL-URL:https://www.princewilliamdemocrats.com
X-WR-CALDESC:Events for Prince William County Democrats
REFRESH-INTERVAL;VALUE=DURATION:PT1H
X-Robots-Tag:noindex
X-PUBLISHED-TTL:PT1H
BEGIN:VTIMEZONE
TZID:UTC
BEGIN:STANDARD
TZOFFSETFROM:+0000
TZOFFSETTO:+0000
TZNAME:UTC
DTSTART:20220101T000000
END:STANDARD
END:VTIMEZONE
BEGIN:VEVENT
DTSTART;TZID=UTC:20230408T090000
DTEND;TZID=UTC:20230408T100000
DTSTAMP:20260421T010528
CREATED:20230329T213145Z
LAST-MODIFIED:20230329T213145Z
UID:10001630-1680944400-1680948000@www.princewilliamdemocrats.com
SUMMARY:Neabsco District Monthly Meeting
DESCRIPTION:Please contact Neabsco District Leadership for additional details.
URL:https://www.princewilliamdemocrats.com/event/2023-04-08-9am-neabsco-district-monthly-meeting-2/
LOCATION:Virtual Event
CATEGORIES:District Meeting
ATTACH;FMTTYPE=image/jpeg:https://www.princewilliamdemocrats.com/wp-content/uploads/2021/02/democratic-monthly-meeting.jpg
END:VEVENT
BEGIN:VEVENT
DTSTART;TZID=UTC:20230408T100000
DTEND;TZID=UTC:20230408T180000
DTSTAMP:20260421T010528
CREATED:20230329T211556Z
LAST-MODIFIED:20230329T211556Z
UID:10001627-1680948000-1680976800@www.princewilliamdemocrats.com
SUMMARY:Office Warming Day of Action
DESCRIPTION:Join Jennifer Carroll Foy for State Senate to celebrate the opening of our coordinated Woodbridge HQ. Join our other endorsed candidates like Supervisors Kenny Boddye and Margaret Franklin to design a poster and take action through phone banking and canvassing! \nFor More Details: Click Here
URL:https://www.princewilliamdemocrats.com/event/2023-04-08-10am-office-warming-day-of-action/
CATEGORIES:Prince William County Democratic Event
ATTACH;FMTTYPE=image/jpeg:https://www.princewilliamdemocrats.com/wp-content/uploads/2023/03/2023-jennifer-carroll-foy-for-state-senate.jpg
END:VEVENT
BEGIN:VEVENT
DTSTART;TZID=UTC:20230408T180000
DTEND;TZID=UTC:20230408T200000
DTSTAMP:20260421T010528
CREATED:20230316T000608Z
LAST-MODIFIED:20230316T000608Z
UID:10001618-1680976800-1680984000@www.princewilliamdemocrats.com
SUMMARY:You're invited to Delegate Michelle Maldonado's Birthday Bash Fundraiser!
DESCRIPTION:Delegate Michelle Maldonado invites you to her birthday bash fundraiser where you can dance with the Delegate! Food and drink provided. \nMichelle Maldonado \nState Delegate \nSaturday\, April 8th\, 2023 \n6:00pm-8:00pm \nVenue provided after ticket purchase \n$1\,000 – Benefactor \n$500 – Patron \n$250 – Champion \n$100.00 – Sponsor \n$50 – Guest \n$25 – Young Dem \nPlease make checks payable to: \nFriends of Michelle Maldonado \n11151 Valley View Drive\, #642 \nBristow\, Virginia 20136 \nFor More Details: Click Here
URL:https://www.princewilliamdemocrats.com/event/2023-04-08-6pm-youre-invited-to-delegate-michelle-maldonados-birthday-bash-fundraiser/
CATEGORIES:Prince William County Democratic Event
ATTACH;FMTTYPE=image/jpeg:https://www.princewilliamdemocrats.com/wp-content/uploads/2023/03/delegate-michelle-maldonado-bash-fundraiser.jpg
END:VEVENT
END:VCALENDAR