BEGIN:VCALENDAR
VERSION:2.0
PRODID:-//Prince William County Democrats - ECPv6.15.20//NONSGML v1.0//EN
CALSCALE:GREGORIAN
METHOD:PUBLISH
X-ORIGINAL-URL:https://www.princewilliamdemocrats.com
X-WR-CALDESC:Events for Prince William County Democrats
REFRESH-INTERVAL;VALUE=DURATION:PT1H
X-Robots-Tag:noindex
X-PUBLISHED-TTL:PT1H
BEGIN:VTIMEZONE
TZID:UTC
BEGIN:STANDARD
TZOFFSETFROM:+0000
TZOFFSETTO:+0000
TZNAME:UTC
DTSTART:20220101T000000
END:STANDARD
END:VTIMEZONE
BEGIN:VEVENT
DTSTART;TZID=UTC:20230401T100000
DTEND;TZID=UTC:20230401T120000
DTSTAMP:20260421T010527
CREATED:20230329T144927Z
LAST-MODIFIED:20230329T145302Z
UID:10001622-1680343200-1680350400@www.princewilliamdemocrats.com
SUMMARY:Grassroots Weekend of Action
DESCRIPTION:Join Jennifer Carroll Foy for State Senate to celebrate how we’ve officially qualified for the ballot by taking action through phone banking and canvassing! \nFor More Details: Click Here
URL:https://www.princewilliamdemocrats.com/event/2023-04-01-10am-grassroots-weekend-of-action/
CATEGORIES:Prince William County Democratic Event
ATTACH;FMTTYPE=image/jpeg:https://www.princewilliamdemocrats.com/wp-content/uploads/2023/03/2023-jennifer-carroll-foy-for-state-senate.jpg
END:VEVENT
END:VCALENDAR