BEGIN:VCALENDAR
VERSION:2.0
PRODID:-//Prince William County Democrats - ECPv6.15.20//NONSGML v1.0//EN
CALSCALE:GREGORIAN
METHOD:PUBLISH
X-WR-CALNAME:Prince William County Democrats
X-ORIGINAL-URL:https://www.princewilliamdemocrats.com
X-WR-CALDESC:Events for Prince William County Democrats
REFRESH-INTERVAL;VALUE=DURATION:PT1H
X-Robots-Tag:noindex
X-PUBLISHED-TTL:PT1H
BEGIN:VTIMEZONE
TZID:UTC
BEGIN:STANDARD
TZOFFSETFROM:+0000
TZOFFSETTO:+0000
TZNAME:UTC
DTSTART:20220101T000000
END:STANDARD
END:VTIMEZONE
BEGIN:VEVENT
DTSTART;TZID=UTC:20230331T180000
DTEND;TZID=UTC:20230331T200000
DTSTAMP:20260421T010529
CREATED:20230329T183046Z
LAST-MODIFIED:20230329T183046Z
UID:10001624-1680285600-1680292800@www.princewilliamdemocrats.com
SUMMARY:Join Us In Support Of Jennifer Carroll Foy For State Senate
DESCRIPTION:For More Details and Register: Click Here
URL:https://www.princewilliamdemocrats.com/event/2023-03-31-6pm-join-us-in-support-of-jennifer-carroll-foy-for-state-senate/
CATEGORIES:Virginia Democratic Event
ATTACH;FMTTYPE=image/jpeg:https://www.princewilliamdemocrats.com/wp-content/uploads/2023/03/2023-jennifer-carroll-foy-for-state-senate-1.jpg
END:VEVENT
END:VCALENDAR