BEGIN:VCALENDAR
VERSION:2.0
PRODID:-//Prince William County Democrats - ECPv6.15.20//NONSGML v1.0//EN
CALSCALE:GREGORIAN
METHOD:PUBLISH
X-WR-CALNAME:Prince William County Democrats
X-ORIGINAL-URL:https://www.princewilliamdemocrats.com
X-WR-CALDESC:Events for Prince William County Democrats
REFRESH-INTERVAL;VALUE=DURATION:PT1H
X-Robots-Tag:noindex
X-PUBLISHED-TTL:PT1H
BEGIN:VTIMEZONE
TZID:UTC
BEGIN:STANDARD
TZOFFSETFROM:+0000
TZOFFSETTO:+0000
TZNAME:UTC
DTSTART:20220101T000000
END:STANDARD
END:VTIMEZONE
BEGIN:VEVENT
DTSTART;TZID=UTC:20230325T100000
DTEND;TZID=UTC:20230325T130000
DTSTAMP:20260421T022624
CREATED:20230315T235957Z
LAST-MODIFIED:20230316T000335Z
UID:10001617-1679738400-1679749200@www.princewilliamdemocrats.com
SUMMARY:Collect Signatures in Woodbridge with Jennifer Carroll Foy
DESCRIPTION:Sign-up to join our campaign for State Senate District 33 covering parts of Prince William and Fairfax Counties! \nWe will be meeting in Woodbridge to knock doors and collect signatures. Whether you’ve joined us before or this is your first time — we will provide everything you need to have a great time helping us qualify for the ballot! \nFor More Details: Click Here
URL:https://www.princewilliamdemocrats.com/event/2023-03-25-10am-collect-signatures-in-woodbridge-with-jennifer-carroll-foy/
CATEGORIES:Prince William County Canvass
ATTACH;FMTTYPE=image/jpeg:https://www.princewilliamdemocrats.com/wp-content/uploads/2023/03/2023-jennifer-carroll-foy-for-state-senate.jpg
END:VEVENT
BEGIN:VEVENT
DTSTART;TZID=UTC:20230325T110000
DTEND;TZID=UTC:20230325T140000
DTSTAMP:20260421T022624
CREATED:20230323T022236Z
LAST-MODIFIED:20230323T022307Z
UID:10001620-1679742000-1679752800@www.princewilliamdemocrats.com
SUMMARY:Andrea Bailey for Supervisor Canvass Kickoff
DESCRIPTION:For More Details: Click Here \n\n\n\nJoin Supervisor Andrea Bailey’s re-election campaign for our official canvassing kickoff event! We’ll be talking with our neighbors about the issues that are important to them – and why Supervisor Andrea Bailey is the right person to move Prince William County forward! \n\n\n\nWe’ll be meeting on at Brittany Neighborhood Park on Saturday\, March 25th at 11 AM. \n\n\n\nIf you have any accessibility needs\, please let us know by emailing carlychoppin@outlook.com so that we can make sure the event will be accessible and comfortable for you. \n\n\n\nWe’re so excited to see you there!
URL:https://www.princewilliamdemocrats.com/event/2023-03-25-11am-andrea-bailey-for-supervisor-canvass-kickoff/
CATEGORIES:Prince William County Canvass
ATTACH;FMTTYPE=image/png:https://www.princewilliamdemocrats.com/wp-content/uploads/2023/03/2023-andrea-bailey-canvass-kickoff.png
END:VEVENT
END:VCALENDAR