BEGIN:VCALENDAR
VERSION:2.0
PRODID:-//Prince William County Democrats - ECPv6.15.20//NONSGML v1.0//EN
CALSCALE:GREGORIAN
METHOD:PUBLISH
X-WR-CALNAME:Prince William County Democrats
X-ORIGINAL-URL:https://www.princewilliamdemocrats.com
X-WR-CALDESC:Events for Prince William County Democrats
REFRESH-INTERVAL;VALUE=DURATION:PT1H
X-Robots-Tag:noindex
X-PUBLISHED-TTL:PT1H
BEGIN:VTIMEZONE
TZID:UTC
BEGIN:STANDARD
TZOFFSETFROM:+0000
TZOFFSETTO:+0000
TZNAME:UTC
DTSTART:20220101T000000
END:STANDARD
END:VTIMEZONE
BEGIN:VEVENT
DTSTART;TZID=UTC:20230319T100000
DTEND;TZID=UTC:20230319T120000
DTSTAMP:20260421T022611
CREATED:20230308T194432Z
LAST-MODIFIED:20230308T194432Z
UID:10001318-1679220000-1679227200@www.princewilliamdemocrats.com
SUMMARY:Brentsville Donuts with Deshundra
DESCRIPTION:For More Details: Click Here\n\n \n\nPlease join Elect Deshundra on Sunday 3/19 for her first Meet & Greet in Brentsville! Have a donut and get to know Deshundra Jefferson\, candidate for PWC Board of County Supervisor Chair.\n\n \n\nRSVP here:\n\n \n\nhttps://www.mobilize.us/electdeshundra/event/551868/
URL:https://www.princewilliamdemocrats.com/event/2023-03-19-10am-brentsville-donuts-with-deshundra/
CATEGORIES:Prince William County Elections
ATTACH;FMTTYPE=image/jpeg:https://www.princewilliamdemocrats.com/wp-content/uploads/2023/03/2023-donuts-and-discussion-with-deshundra.jpg
END:VEVENT
BEGIN:VEVENT
DTSTART;TZID=UTC:20230319T130000
DTEND;TZID=UTC:20230319T150000
DTSTAMP:20260421T022611
CREATED:20230308T195303Z
LAST-MODIFIED:20230308T195303Z
UID:10001320-1679230800-1679238000@www.princewilliamdemocrats.com
SUMMARY:Meet and Greet at Potomac Shores
DESCRIPTION:For More Details: Click Here\n\n \n\nJoin Votekimforpwc on March 19th for a Meet & Greet in the Potomac District! Kim Short is running for Potomac District Supervisor on the PWC BOCS.\n\n \n\n UPDATE: The event is now from 1pm – 3pm.\n\n \n\nRSVP here: https://secure.actblue.com/donate/kimatpotomacshores
URL:https://www.princewilliamdemocrats.com/event/2023-03-19-1pm-meet-and-greet-at-potomac-shores/
CATEGORIES:Prince William County Elections
ATTACH;FMTTYPE=image/jpeg:https://www.princewilliamdemocrats.com/wp-content/uploads/2023/03/2023-kim-short-potomac-district.jpg
END:VEVENT
BEGIN:VEVENT
DTSTART;TZID=UTC:20230319T130000
DTEND;TZID=UTC:20230319T160000
DTSTAMP:20260421T022611
CREATED:20230315T231236Z
LAST-MODIFIED:20230315T231236Z
UID:10001612-1679230800-1679241600@www.princewilliamdemocrats.com
SUMMARY:Josh Thomas for Delegate - Petition Signature Canvassing
DESCRIPTION:Join us for canvasses this weekend to get petition signatures and spread the word about why Josh is running for Delegate. The filing deadline is April 6th and we need you to come help so we can make sure Josh is on the ballot this November! \nFor More Details: Click Here
URL:https://www.princewilliamdemocrats.com/event/2023-03-19-1pm-josh-thomas-for-delegate-petition-signature-canvassing/
CATEGORIES:Prince William County Canvass
ATTACH;FMTTYPE=image/png:https://www.princewilliamdemocrats.com/wp-content/uploads/2023/03/standard-canvas-img.png
END:VEVENT
BEGIN:VEVENT
DTSTART;TZID=UTC:20230319T160000
DTEND;TZID=UTC:20230319T180000
DTSTAMP:20260421T022611
CREATED:20230315T233019Z
LAST-MODIFIED:20230315T233019Z
UID:10001613-1679241600-1679248800@www.princewilliamdemocrats.com
SUMMARY:Support Julia Biggins Campaign for PWC School Board Chair
DESCRIPTION:Julia is running for Prince William County School Board Chair to make bold changes to improve the delivery of quality education to our students and ensure teachers are treated fairly and with respect in the classroom and at the bargaining table. She will fight for all students regardless of where they live in the county or what language is spoken at home. \nFor More Details: Click Here
URL:https://www.princewilliamdemocrats.com/event/2023-03-19-4pm-support-julia-biggins-campaign-for-pwc-school-board-chair/
CATEGORIES:Prince William County Canvass
ATTACH;FMTTYPE=image/jpeg:https://www.princewilliamdemocrats.com/wp-content/uploads/2023/03/julia-biggins-for-pwc-school-board-chair.jpg
END:VEVENT
END:VCALENDAR