BEGIN:VCALENDAR
VERSION:2.0
PRODID:-//Prince William County Democrats - ECPv6.15.20//NONSGML v1.0//EN
CALSCALE:GREGORIAN
METHOD:PUBLISH
X-WR-CALNAME:Prince William County Democrats
X-ORIGINAL-URL:https://www.princewilliamdemocrats.com
X-WR-CALDESC:Events for Prince William County Democrats
REFRESH-INTERVAL;VALUE=DURATION:PT1H
X-Robots-Tag:noindex
X-PUBLISHED-TTL:PT1H
BEGIN:VTIMEZONE
TZID:UTC
BEGIN:STANDARD
TZOFFSETFROM:+0000
TZOFFSETTO:+0000
TZNAME:UTC
DTSTART:20220101T000000
END:STANDARD
END:VTIMEZONE
BEGIN:VEVENT
DTSTART;TZID=UTC:20230312T160000
DTEND;TZID=UTC:20230312T180000
DTSTAMP:20260421T022623
CREATED:20230308T193015Z
LAST-MODIFIED:20230308T193015Z
UID:10001314-1678636800-1678644000@www.princewilliamdemocrats.com
SUMMARY:Support Andrea Bailey for re-election during Women's History Month!
DESCRIPTION:For More Details: Click Here\n\n \n\nPlease join Andrea Bailey Prince William County Supervisor for a re-election fundraiser on Sunday\, March 12th!\n\n \n\nSupervisor Andrea Bailey’s re-election campaign will be hosting a “Lifting Your Crown” fundraiser –– featuring trivia in honor of Women’s History Month.\n\n \n\nRSVP + Donate here:\n\n \n\nhttps://secure.actblue.com/donate/liftingyourcrown
URL:https://www.princewilliamdemocrats.com/event/2023-03-12-4pm-support-andrea-bailey-for-re-election-during-womens-history-month/
CATEGORIES:Prince William County Elections
ATTACH;FMTTYPE=image/jpeg:https://www.princewilliamdemocrats.com/wp-content/uploads/2023/03/2023-andrea-bailey-lifting-your-crown.jpg
END:VEVENT
BEGIN:VEVENT
DTSTART;TZID=UTC:20230312T160000
DTEND;TZID=UTC:20230312T190000
DTSTAMP:20260421T022623
CREATED:20230308T193802Z
LAST-MODIFIED:20230308T193802Z
UID:10001316-1678636800-1678647600@www.princewilliamdemocrats.com
SUMMARY:Babur Lateef for Prince William County School Board Chair Re-Election Kickoff
DESCRIPTION:For More Details: Click Here\n\n \n\nJoin Babur Lateef on Sunday\, March 12th for a re-election kick off celebration!  Event will be at Gray’s Event Center (4323 Dale Blvd\, Woodbridge VA) from 4pm-7pm.\n\n \n\nPlease RSVP with the link below:\n\n \n\nhttps://secure.ngpvan.com/2VCHv4nGEE2NCimvdxWU5Q2
URL:https://www.princewilliamdemocrats.com/event/2023-03-12-4pm-babur-lateef-for-prince-william-county-school-board-chair-re-election-kickoff/
CATEGORIES:Prince William County Elections
ATTACH;FMTTYPE=image/png:https://www.princewilliamdemocrats.com/wp-content/uploads/2023/03/2023-re-elect-dr-babur-lateef.png
END:VEVENT
END:VCALENDAR