BEGIN:VCALENDAR
VERSION:2.0
PRODID:-//Prince William County Democrats - ECPv6.15.20//NONSGML v1.0//EN
CALSCALE:GREGORIAN
METHOD:PUBLISH
X-WR-CALNAME:Prince William County Democrats
X-ORIGINAL-URL:https://www.princewilliamdemocrats.com
X-WR-CALDESC:Events for Prince William County Democrats
REFRESH-INTERVAL;VALUE=DURATION:PT1H
X-Robots-Tag:noindex
X-PUBLISHED-TTL:PT1H
BEGIN:VTIMEZONE
TZID:UTC
BEGIN:STANDARD
TZOFFSETFROM:+0000
TZOFFSETTO:+0000
TZNAME:UTC
DTSTART:20220101T000000
END:STANDARD
END:VTIMEZONE
BEGIN:VEVENT
DTSTART;TZID=UTC:20230311T090000
DTEND;TZID=UTC:20230311T100000
DTSTAMP:20260421T022623
CREATED:20230308T093756Z
LAST-MODIFIED:20230308T093826Z
UID:10001603-1678525200-1678528800@www.princewilliamdemocrats.com
SUMMARY:Neabsco District Monthly Meeting
DESCRIPTION:Please contact Neabsco District Leadership for additional details.
URL:https://www.princewilliamdemocrats.com/event/2023-03-11-9am-neabsco-district-monthly-meeting-2/
LOCATION:Virtual Event
CATEGORIES:District Meeting
ATTACH;FMTTYPE=image/jpeg:https://www.princewilliamdemocrats.com/wp-content/uploads/2021/02/democratic-monthly-meeting.jpg
END:VEVENT
BEGIN:VEVENT
DTSTART;TZID=UTC:20230311T100000
DTEND;TZID=UTC:20230311T150000
DTSTAMP:20260421T022623
CREATED:20230308T192049Z
LAST-MODIFIED:20230308T192049Z
UID:10001312-1678528800-1678546800@www.princewilliamdemocrats.com
SUMMARY:Day of Action Canvassing with Team Guzman
DESCRIPTION:For More Details: Click Here\n\n \n\nElections are won at the doors! On Saturday March 11\, Team Guzman will talk with as many voters as possible about why Delegate Guzman is the best choice to be the Senator representing all the communities in the NEW Virginia Senate District 29th. Join us and be part of our historic campaign!\n\n \n\nThe address of the event will be sent once you sign up.\n\n \n\nLas elecciones se ganan conversando en las puertas de los votantes. El sábado 11 de Marzo el equipo de la Delegada Guzman va a hablar con los votantes para que ellos sepan por qué ella es la mejor opción para representar a todas las comunidades que son parte del nuevo distrito 29 del Senado de Virginia. Unase y sea parte de nuestra historia campaña!\n\n \n\nLa dirección del evento sera mandada una vez usted se registre.
URL:https://www.princewilliamdemocrats.com/event/2023-03-11-10am-day-of-action-canvassing-with-team-guzman/
CATEGORIES:Prince William County Elections
ATTACH;FMTTYPE=image/jpeg:https://www.princewilliamdemocrats.com/wp-content/uploads/2023/03/2023-elizabeth-guzman-for-state-senate.jpg
END:VEVENT
END:VCALENDAR