BEGIN:VCALENDAR
VERSION:2.0
PRODID:-//Prince William County Democrats - ECPv6.15.20//NONSGML v1.0//EN
CALSCALE:GREGORIAN
METHOD:PUBLISH
X-WR-CALNAME:Prince William County Democrats
X-ORIGINAL-URL:https://www.princewilliamdemocrats.com
X-WR-CALDESC:Events for Prince William County Democrats
REFRESH-INTERVAL;VALUE=DURATION:PT1H
X-Robots-Tag:noindex
X-PUBLISHED-TTL:PT1H
BEGIN:VTIMEZONE
TZID:UTC
BEGIN:STANDARD
TZOFFSETFROM:+0000
TZOFFSETTO:+0000
TZNAME:UTC
DTSTART:20220101T000000
END:STANDARD
END:VTIMEZONE
BEGIN:VEVENT
DTSTART;TZID=UTC:20230304T110000
DTEND;TZID=UTC:20230304T130000
DTSTAMP:20260421T022614
CREATED:20230206T205533Z
LAST-MODIFIED:20230206T205533Z
UID:10001587-1677927600-1677934800@www.princewilliamdemocrats.com
SUMMARY:Prince William County Democrats - Blue Victory Brunch
DESCRIPTION:For Tickets and More Details: Click Here \nhttps://www.princewilliamdemocrats.com/events/blue-victory/
URL:https://www.princewilliamdemocrats.com/event/prince-william-county-democrats-blue-victory-brunch/
LOCATION:Montclair Country Club\, 16500 Edgewood Dr.\, Montclair\, 22025\, United States
CATEGORIES:Prince William County Democratic Event
ATTACH;FMTTYPE=image/jpeg:https://www.princewilliamdemocrats.com/wp-content/uploads/2023/02/pwc-prince-william-democrats-blue-victory-brunch.jpg
END:VEVENT
BEGIN:VEVENT
DTSTART;TZID=UTC:20230304T123000
DTEND;TZID=UTC:20230304T170000
DTSTAMP:20260421T022614
CREATED:20230308T150723Z
LAST-MODIFIED:20230308T150752Z
UID:10001309-1677933000-1677949200@www.princewilliamdemocrats.com
SUMMARY:Vera & Joe's To Go Gumbo in support of Delegate Candi King
DESCRIPTION:For More Details: Click Here \n\n\n\nYou’re invited to a fundraiser for Delegate Candi Mundon King this Saturday\, March 4th in Manassas! Place your Gumbo-to-Go order by March 3rd\, see flyer for details  \n\n\n\nDonate here: \n\n\n\nhttps://secure.actblue.com/donate/verajoegumbo
URL:https://www.princewilliamdemocrats.com/event/2023-3-4-1230pm-vera-joes-to-go-gumbo-in-support-of-delegate-candi-king/
CATEGORIES:Prince William County Elections
ATTACH;FMTTYPE=image/jpeg:https://www.princewilliamdemocrats.com/wp-content/uploads/2023/03/2023-candi-king-gumbo-to-go.jpg
END:VEVENT
BEGIN:VEVENT
DTSTART;TZID=UTC:20230304T130000
DTEND;TZID=UTC:20230304T150000
DTSTAMP:20260421T022614
CREATED:20230308T151950Z
LAST-MODIFIED:20230308T151950Z
UID:10001311-1677934800-1677942000@www.princewilliamdemocrats.com
SUMMARY:Luke Torian Re-Election Campaign - Signature Collection
DESCRIPTION:Volunteer this Saturday\, March 4th to collect petition signatures for Luke Torian‘s re-election campaign!\n\n \n\nRSVP to info@delegatetorian.com
URL:https://www.princewilliamdemocrats.com/event/2023-03-04-1pm-luke-torian-re-election-campaign-signature-collection/
END:VEVENT
END:VCALENDAR