BEGIN:VCALENDAR
VERSION:2.0
PRODID:-//Prince William County Democrats - ECPv6.15.20//NONSGML v1.0//EN
CALSCALE:GREGORIAN
METHOD:PUBLISH
X-ORIGINAL-URL:https://www.princewilliamdemocrats.com
X-WR-CALDESC:Events for Prince William County Democrats
REFRESH-INTERVAL;VALUE=DURATION:PT1H
X-Robots-Tag:noindex
X-PUBLISHED-TTL:PT1H
BEGIN:VTIMEZONE
TZID:UTC
BEGIN:STANDARD
TZOFFSETFROM:+0000
TZOFFSETTO:+0000
TZNAME:UTC
DTSTART:20220101T000000
END:STANDARD
END:VTIMEZONE
BEGIN:VEVENT
DTSTART;TZID=UTC:20230219T160000
DTEND;TZID=UTC:20230219T190000
DTSTAMP:20260421T035558
CREATED:20230213T192336Z
LAST-MODIFIED:20230213T192336Z
UID:10001598-1676822400-1676833200@www.princewilliamdemocrats.com
SUMMARY:Victor Angry Re-Election Kick-Off
DESCRIPTION:Join me Supervisor Victor Angry Feb. 19\, 2023 from 4:00pm-7:00pm for his official campaign kick-off! \nLocation: 2650 Neabsco Common Pl. Woodbridge\, VA \nDonate: Click Here
URL:https://www.princewilliamdemocrats.com/event/2023-02-19-4pm-victor-angry-re-election-kick-off/
CATEGORIES:Prince William County Democratic Event
ATTACH;FMTTYPE=image/png:https://www.princewilliamdemocrats.com/wp-content/uploads/2023/02/victor-angry-reelection-kickoff.png
END:VEVENT
END:VCALENDAR