BEGIN:VCALENDAR
VERSION:2.0
PRODID:-//Prince William County Democrats - ECPv6.15.20//NONSGML v1.0//EN
CALSCALE:GREGORIAN
METHOD:PUBLISH
X-ORIGINAL-URL:https://www.princewilliamdemocrats.com
X-WR-CALDESC:Events for Prince William County Democrats
REFRESH-INTERVAL;VALUE=DURATION:PT1H
X-Robots-Tag:noindex
X-PUBLISHED-TTL:PT1H
BEGIN:VTIMEZONE
TZID:UTC
BEGIN:STANDARD
TZOFFSETFROM:+0000
TZOFFSETTO:+0000
TZNAME:UTC
DTSTART:20220101T000000
END:STANDARD
END:VTIMEZONE
BEGIN:VEVENT
DTSTART;TZID=UTC:20230213T190000
DTEND;TZID=UTC:20230213T200000
DTSTAMP:20260421T040543
CREATED:20230206T202626Z
LAST-MODIFIED:20230206T202626Z
UID:10001581-1676314800-1676318400@www.princewilliamdemocrats.com
SUMMARY:Gainesville District Monthly Meeting
DESCRIPTION:Please contact Gainesville District Leadership for additional details.
URL:https://www.princewilliamdemocrats.com/event/gainesville-district-monthly-meeting-3/
LOCATION:Virtual Event
CATEGORIES:District Meeting
ATTACH;FMTTYPE=image/jpeg:https://www.princewilliamdemocrats.com/wp-content/uploads/2021/02/democratic-monthly-meeting.jpg
END:VEVENT
BEGIN:VEVENT
DTSTART;TZID=UTC:20230213T190000
DTEND;TZID=UTC:20230213T210000
DTSTAMP:20260421T040543
CREATED:20230122T221255Z
LAST-MODIFIED:20230122T221255Z
UID:10001276-1676314800-1676322000@www.princewilliamdemocrats.com
SUMMARY:Please join the African Diaspora Community for a Fundraiser supporting Jennifer McClellan for Congress
DESCRIPTION:For More Details: Click Here \nPlease join the African Diaspora Community for a fundraiser on Monday\, Feb 13 supporting Jennifer McClellan for Congress!
URL:https://www.princewilliamdemocrats.com/event/2023-02-13-7pm-please-join-the-african-diaspora-community-for-a-fundraiser-supporting-jennifer-mcclellan-for-congress/
CATEGORIES:Virginia Democratic Event
ATTACH;FMTTYPE=image/jpeg:https://www.princewilliamdemocrats.com/wp-content/uploads/2023/01/2023-african-diaspora-community-jennifer-mcclennan.jpg
END:VEVENT
BEGIN:VEVENT
DTSTART;TZID=UTC:20230213T193000
DTEND;TZID=UTC:20230213T203000
DTSTAMP:20260421T040543
CREATED:20230206T202926Z
LAST-MODIFIED:20230206T202926Z
UID:10001583-1676316600-1676320200@www.princewilliamdemocrats.com
SUMMARY:Occoquan District Monthly Meeting
DESCRIPTION:Please contact Occoquan District Leadership for additional details.
URL:https://www.princewilliamdemocrats.com/event/occoquan-district-monthly-meeting/
CATEGORIES:District Meeting
ATTACH;FMTTYPE=image/jpeg:https://www.princewilliamdemocrats.com/wp-content/uploads/2021/02/democratic-monthly-meeting.jpg
END:VEVENT
END:VCALENDAR