BEGIN:VCALENDAR
VERSION:2.0
PRODID:-//Prince William County Democrats - ECPv6.15.20//NONSGML v1.0//EN
CALSCALE:GREGORIAN
METHOD:PUBLISH
X-ORIGINAL-URL:https://www.princewilliamdemocrats.com
X-WR-CALDESC:Events for Prince William County Democrats
REFRESH-INTERVAL;VALUE=DURATION:PT1H
X-Robots-Tag:noindex
X-PUBLISHED-TTL:PT1H
BEGIN:VTIMEZONE
TZID:UTC
BEGIN:STANDARD
TZOFFSETFROM:+0000
TZOFFSETTO:+0000
TZNAME:UTC
DTSTART:20220101T000000
END:STANDARD
END:VTIMEZONE
BEGIN:VEVENT
DTSTART;TZID=UTC:20230207T080000
DTEND;TZID=UTC:20230207T170000
DTSTAMP:20260421T035559
CREATED:20230206T225436Z
LAST-MODIFIED:20230206T225532Z
UID:10001591-1675756800-1675789200@www.princewilliamdemocrats.com
SUMMARY:Gainesville Special Election - Online Voter Reg Deadline
DESCRIPTION:You can vote early for Sumers for Gainesville Supervisor  all week long–– including this Saturday!\n\n\n Special Election EV Hours + Dates:\nLocation: PWC Office of Elections\n9250 Lee Ave\, Manassas\, VA 20110\nWeekdays: 8:30 AM – 4:30 PM\, Mon – Fri\nWeekends: 8:30 AM – 5:00 PM\nSat 2/4\, Sat 2/11-Sun 2/12\, Sat 2/18\n\n\nPWC Voting Info: https://www.pwcvotes.org/\n\n\nPWCDC will be working hard to get Sumers for Gainesville Supervisor  elected as our next Gainesville Supervisor!\n\n\n Learn about Kerensa:\nhttps://www.sumersforsupervisor.com/\n Volunteer to canvass:\nhttps://www.mobilize.us/princewilliamcountydemocraticcommittee/event/549406/\n Donate to Sumer’s campaign:\nhttps://secure.actblue.com/donate/kerensasumers
URL:https://www.princewilliamdemocrats.com/event/2023-02-07-gainesville-special-election-online-voter-reg-deadline/
ATTACH;FMTTYPE=image/jpeg:https://www.princewilliamdemocrats.com/wp-content/uploads/2023/02/2023-gainesville-special-election.jpg
END:VEVENT
BEGIN:VEVENT
DTSTART;TZID=UTC:20230207T140000
DTEND;TZID=UTC:20230207T170000
DTSTAMP:20260421T035559
CREATED:20230206T231649Z
LAST-MODIFIED:20230206T232640Z
UID:10001594-1675778400-1675789200@www.princewilliamdemocrats.com
SUMMARY:Board of County Supervisors Meeting
DESCRIPTION:Board Of County Supervisors –  PWC Website (More Info Click Here) \n\nMeetings are at 2pm and 7:30pm (times and dates may change\, please check link above and agenda)\n\nSign Up To Speak (More Info Click Here) \n*Note: To sign up to speak virtually the deadline is the day before the meeting (Monday) at 5pm\, if you attend the meeting in person you can sign up the day of. \nPage Resources Include The Following \n\nLive Video\, Brief & Archives (More Info Click Here)\n\nBoard Agenda\nAgenda\nBriefs\nVideo Podcast\nArchive\n\n\nCurrent Agenda\nSpeak Up! Prince William\nMeeting Schedule\nDistrict Map\nRules of Procedures\nStatement of Economic Interest\nSign Up for eNotifications\nWho are Your Elected Officials\n\n*Because changes can occur\, please navigate to the above links for the most up to date times\, locations\, agendas and details about meetings.
URL:https://www.princewilliamdemocrats.com/event/2023-02-07-2pm-board-of-county-supervisors-meeting-2/
LOCATION:McCoart\, 1 County Complex Ct\, Woodbridge\, VA\, 22192\, United States
CATEGORIES:PWC Board of County Supervisors Meeting
ATTACH;FMTTYPE=image/png:https://www.princewilliamdemocrats.com/wp-content/uploads/2021/03/pwc-bocs-meetings.png
END:VEVENT
END:VCALENDAR