BEGIN:VCALENDAR
VERSION:2.0
PRODID:-//Prince William County Democrats - ECPv6.15.20//NONSGML v1.0//EN
CALSCALE:GREGORIAN
METHOD:PUBLISH
X-ORIGINAL-URL:https://www.princewilliamdemocrats.com
X-WR-CALDESC:Events for Prince William County Democrats
REFRESH-INTERVAL;VALUE=DURATION:PT1H
X-Robots-Tag:noindex
X-PUBLISHED-TTL:PT1H
BEGIN:VTIMEZONE
TZID:UTC
BEGIN:STANDARD
TZOFFSETFROM:+0000
TZOFFSETTO:+0000
TZNAME:UTC
DTSTART:20220101T000000
END:STANDARD
END:VTIMEZONE
BEGIN:VEVENT
DTSTART;TZID=UTC:20230205T130000
DTEND;TZID=UTC:20230205T150000
DTSTAMP:20260421T041006
CREATED:20230206T211915Z
LAST-MODIFIED:20230206T211929Z
UID:10001589-1675602000-1675609200@www.princewilliamdemocrats.com
SUMMARY:Re-Elect Chair Ann Wheeler
DESCRIPTION:You’re invited to a campaign kick-off for Ann Wheeler for PWC on Sunday\, February 5th!\n\n\nRSVP + Donate here:\nhttps://secure.actblue.com/donate/wheeler-for-pwc-1
URL:https://www.princewilliamdemocrats.com/event/2023-02-05-1pm-re-elect-chair-ann-wheeler/
CATEGORIES:Prince William County Elections
ATTACH;FMTTYPE=image/jpeg:https://www.princewilliamdemocrats.com/wp-content/uploads/2023/02/2023-reelect-ann-wheeler.jpg
END:VEVENT
END:VCALENDAR