BEGIN:VCALENDAR
VERSION:2.0
PRODID:-//Prince William County Democrats - ECPv6.15.20//NONSGML v1.0//EN
CALSCALE:GREGORIAN
METHOD:PUBLISH
X-ORIGINAL-URL:https://www.princewilliamdemocrats.com
X-WR-CALDESC:Events for Prince William County Democrats
REFRESH-INTERVAL;VALUE=DURATION:PT1H
X-Robots-Tag:noindex
X-PUBLISHED-TTL:PT1H
BEGIN:VTIMEZONE
TZID:UTC
BEGIN:STANDARD
TZOFFSETFROM:+0000
TZOFFSETTO:+0000
TZNAME:UTC
DTSTART:20220101T000000
END:STANDARD
END:VTIMEZONE
BEGIN:VEVENT
DTSTART;TZID=UTC:20230128T120000
DTEND;TZID=UTC:20230128T140000
DTSTAMP:20260421T052820
CREATED:20230122T222242Z
LAST-MODIFIED:20230122T222513Z
UID:10001278-1674907200-1674914400@www.princewilliamdemocrats.com
SUMMARY:Dessert with Deshundra
DESCRIPTION:Please join Deshundra Jefferson\, candidate for Chair of the Prince William Board of County Supervisors\, for a sweet meet & greet in Lake Ridge. \nFore More Details: Click Here
URL:https://www.princewilliamdemocrats.com/event/2023-01-28-12pm-dessert-with-deshundra/
CATEGORIES:Prince William County Democratic Event
ATTACH;FMTTYPE=image/jpeg:https://www.princewilliamdemocrats.com/wp-content/uploads/2023/01/2023-dessert-with-deshundra.jpg
END:VEVENT
END:VCALENDAR