BEGIN:VCALENDAR
VERSION:2.0
PRODID:-//Prince William County Democrats - ECPv6.15.20//NONSGML v1.0//EN
CALSCALE:GREGORIAN
METHOD:PUBLISH
X-WR-CALNAME:Prince William County Democrats
X-ORIGINAL-URL:https://www.princewilliamdemocrats.com
X-WR-CALDESC:Events for Prince William County Democrats
REFRESH-INTERVAL;VALUE=DURATION:PT1H
X-Robots-Tag:noindex
X-PUBLISHED-TTL:PT1H
BEGIN:VTIMEZONE
TZID:UTC
BEGIN:STANDARD
TZOFFSETFROM:+0000
TZOFFSETTO:+0000
TZNAME:UTC
DTSTART:20220101T000000
END:STANDARD
END:VTIMEZONE
BEGIN:VEVENT
DTSTART;TZID=UTC:20230114T090000
DTEND;TZID=UTC:20230114T230000
DTSTAMP:20260421T052741
CREATED:20230103T212410Z
LAST-MODIFIED:20230103T212410Z
UID:10001567-1673686800-1673737200@www.princewilliamdemocrats.com
SUMMARY:Neabsco District Monthly Meeting
DESCRIPTION:Please contact Neabsco District Leadership for additional details.
URL:https://www.princewilliamdemocrats.com/event/2023-01-14-9am-neabsco-district-monthly-meeting/
LOCATION:Virtual Event
CATEGORIES:District Meeting
ATTACH;FMTTYPE=image/jpeg:https://www.princewilliamdemocrats.com/wp-content/uploads/2021/02/democratic-monthly-meeting.jpg
END:VEVENT
BEGIN:VEVENT
DTSTART;TZID=UTC:20230114T110000
DTEND;TZID=UTC:20230114T130000
DTSTAMP:20260421T052741
CREATED:20230112T021655Z
LAST-MODIFIED:20230112T021655Z
UID:10001272-1673694000-1673701200@www.princewilliamdemocrats.com
SUMMARY:Join Team Henson for a Canvass Launch
DESCRIPTION:Join Team Henson for a Canvass Launch on January 14\, 2023 at 11:00am! Help us collect signatures to get on the ballot! Sign up here: https://www.mobilize.us/roziahensonfordelegate/event/547103/
URL:https://www.princewilliamdemocrats.com/event/2023-01-14-11am-join-team-henson-for-a-canvass-launch/
CATEGORIES:Prince William County Democratic Event
ATTACH;FMTTYPE=image/jpeg:https://www.princewilliamdemocrats.com/wp-content/uploads/2023/01/2023-rozia-henson-canvass-launch.jpg
END:VEVENT
BEGIN:VEVENT
DTSTART;TZID=UTC:20230114T130000
DTEND;TZID=UTC:20230114T150000
DTSTAMP:20260421T052741
CREATED:20230111T155906Z
LAST-MODIFIED:20230111T160518Z
UID:10001580-1673701200-1673708400@www.princewilliamdemocrats.com
SUMMARY:Biggins for PWC School Board Chair Petition Drive
DESCRIPTION:Join Team Biggins for a Coles District canvass launch to get Julia Biggins on the ballot for PWC School Board Chair!\n\n\nEvent is this Saturday\, Jan 14th from 1-3pm \n\n\nRegister here:\nhttps://www.mobilize.us/bigginsforpwcs/event/547266/
URL:https://www.princewilliamdemocrats.com/event/2023-01-14-1pm-join-team-biggins-for-a-coles-district-canvass-launch/
CATEGORIES:Prince William County Democratic Event
ATTACH;FMTTYPE=image/jpeg:https://www.princewilliamdemocrats.com/wp-content/uploads/2023/01/2023-julia-biggins-pwc-schools-chair-petition-drive.jpg
END:VEVENT
BEGIN:VEVENT
DTSTART;TZID=UTC:20230114T133000
DTEND;TZID=UTC:20230114T153000
DTSTAMP:20260421T052741
CREATED:20230110T033744Z
LAST-MODIFIED:20230110T033744Z
UID:10001579-1673703000-1673710200@www.princewilliamdemocrats.com
SUMMARY:Kim's Campaign Catapult
DESCRIPTION:Teammates\, \nIt has been six months since we launched our campaign. Through our interactions with hundreds of citizens in our great community\, we have learned of those things for which there are opportunities for improvement. \nYour support during this time is greatly appreciated and has motivated us to move forward with extreme focus and vigor. Also\, your donations will help in continued efforts to visit with our neighbors and businesses to spread the word that change is on the horizon. \nTogether we will ensure government accountability across all functional areas\, especially those that consume the majority of our budget; we will push to become a county that prioritizes preventing illnesses and injuries over treatment and crisis management; and we will bring innovative and necessary businesses and recreation to the Potomac District.
URL:https://www.princewilliamdemocrats.com/event/2023-01-14-130pm-kims-campaign-catapult/
CATEGORIES:Prince William County Democratic Event
ATTACH;FMTTYPE=image/jpeg:https://www.princewilliamdemocrats.com/wp-content/uploads/2023/01/2023-potomac-supervisor-candidate-kim-short.jpg
END:VEVENT
END:VCALENDAR