BEGIN:VCALENDAR
VERSION:2.0
PRODID:-//Prince William County Democrats - ECPv6.15.20//NONSGML v1.0//EN
CALSCALE:GREGORIAN
METHOD:PUBLISH
X-ORIGINAL-URL:https://www.princewilliamdemocrats.com
X-WR-CALDESC:Events for Prince William County Democrats
REFRESH-INTERVAL;VALUE=DURATION:PT1H
X-Robots-Tag:noindex
X-PUBLISHED-TTL:PT1H
BEGIN:VTIMEZONE
TZID:UTC
BEGIN:STANDARD
TZOFFSETFROM:+0000
TZOFFSETTO:+0000
TZNAME:UTC
DTSTART:20220101T000000
END:STANDARD
END:VTIMEZONE
BEGIN:VEVENT
DTSTART;TZID=UTC:20230109T180000
DTEND;TZID=UTC:20230109T200000
DTSTAMP:20260421T052858
CREATED:20230107T162401Z
LAST-MODIFIED:20230107T162443Z
UID:10001573-1673287200-1673294400@www.princewilliamdemocrats.com
SUMMARY:Coles Grassroots Kickoff to Support Delegate Guzman for State Senate
DESCRIPTION:Come to a Coles Kickoff Fundraiser in support of Elizabeth Guzman for State Senate on Monday\, Jan 9th!\n\n\nTickets & Details here:\nhttps://secure.actblue.com/donate/jan9coles
URL:https://www.princewilliamdemocrats.com/event/2023-01-09-6pm-coles-grassroots-kickoff-to-support-delegate-guzman-for-state-senate/
CATEGORIES:Prince William County Democratic Event
ATTACH;FMTTYPE=image/jpeg:https://www.princewilliamdemocrats.com/wp-content/uploads/2023/01/2023-coles-kickoff-elizabeth-guzman.jpg
END:VEVENT
BEGIN:VEVENT
DTSTART;TZID=UTC:20230109T190000
DTEND;TZID=UTC:20230109T210000
DTSTAMP:20260421T052858
CREATED:20230103T212157Z
LAST-MODIFIED:20230103T212157Z
UID:10001566-1673290800-1673298000@www.princewilliamdemocrats.com
SUMMARY:Gainesville District Monthly Meeting
DESCRIPTION:Please contact Gainesville District Leadership for additional details.
URL:https://www.princewilliamdemocrats.com/event/2023-01-09-7pm-gainesville-district-monthly-meeting-3/
LOCATION:Virtual Event
CATEGORIES:District Meeting
ATTACH;FMTTYPE=image/jpeg:https://www.princewilliamdemocrats.com/wp-content/uploads/2021/02/democratic-monthly-meeting.jpg
END:VEVENT
BEGIN:VEVENT
DTSTART;TZID=UTC:20230109T193000
DTEND;TZID=UTC:20230109T213000
DTSTAMP:20260421T052858
CREATED:20230103T212558Z
LAST-MODIFIED:20230103T212558Z
UID:10001568-1673292600-1673299800@www.princewilliamdemocrats.com
SUMMARY:Occoquan District Monthly Meeting
DESCRIPTION:Please contact Occoquan District Leadership for additional details.
URL:https://www.princewilliamdemocrats.com/event/2023-01-09-730pm-occoquan-district-monthly-meeting/
LOCATION:Virtual Event
CATEGORIES:District Meeting
ATTACH;FMTTYPE=image/jpeg:https://www.princewilliamdemocrats.com/wp-content/uploads/2021/02/democratic-monthly-meeting.jpg
END:VEVENT
END:VCALENDAR