BEGIN:VCALENDAR
VERSION:2.0
PRODID:-//Prince William County Democrats - ECPv6.15.20//NONSGML v1.0//EN
CALSCALE:GREGORIAN
METHOD:PUBLISH
X-WR-CALNAME:Prince William County Democrats
X-ORIGINAL-URL:https://www.princewilliamdemocrats.com
X-WR-CALDESC:Events for Prince William County Democrats
REFRESH-INTERVAL;VALUE=DURATION:PT1H
X-Robots-Tag:noindex
X-PUBLISHED-TTL:PT1H
BEGIN:VTIMEZONE
TZID:UTC
BEGIN:STANDARD
TZOFFSETFROM:+0000
TZOFFSETTO:+0000
TZNAME:UTC
DTSTART:20220101T000000
END:STANDARD
END:VTIMEZONE
BEGIN:VEVENT
DTSTART;TZID=UTC:20230108T140000
DTEND;TZID=UTC:20230108T160000
DTSTAMP:20260421T052744
CREATED:20230107T161814Z
LAST-MODIFIED:20230107T161814Z
UID:10001572-1673186400-1673193600@www.princewilliamdemocrats.com
SUMMARY:Margaret Franklin Campaign Kick Off
DESCRIPTION:You’re invited to a campaign kickoff event for Supervisor Margaret Angela Franklin for Woodbridge on Sun\, Jan 8th to gather signatures for her re-election campaign.\n\n\nEvent will take place at the Woodbridge Welcome Center and features special guest Jennifer Carroll Foy!
URL:https://www.princewilliamdemocrats.com/event/2023-01-08-2pm-margaret-franklin-campaign-kick-off/
CATEGORIES:Prince William County Democratic Event
ATTACH;FMTTYPE=image/jpeg:https://www.princewilliamdemocrats.com/wp-content/uploads/2023/01/2023-campaign-kickoff-margaret-franklin.jpg
END:VEVENT
BEGIN:VEVENT
DTSTART;TZID=UTC:20230108T163000
DTEND;TZID=UTC:20230108T183000
DTSTAMP:20260421T052744
CREATED:20230107T163235Z
LAST-MODIFIED:20230107T163235Z
UID:10001574-1673195400-1673202600@www.princewilliamdemocrats.com
SUMMARY:State Senator Jeremy McPike Re-Election Campaign Kickoff
DESCRIPTION:You are cordially invited to join Senator Jeremy McPike for his re-election campaign kickoff! \nSunday\, January 8th\, 2023 \n4:30 pm – 6:30 pm \nOld Hickory Golf Club \n11921 Chanceford Dr. \nWoodbridge\, VA 22192 \n$2\,500 – Benefactor \n$1\,000 – Host | $500 – Co-Host \n$250 – Supporter | $100 – Patron \n$50 – Friend \nPlease make checks payable to: \nMcPike for Senate \nP. O. Box 2819 \n Woodbridge\, VA 22195 \nRSVP to Cisco Davey \ncisco@mcpike4va.com \nContributions are encouraged\, but not required.
URL:https://www.princewilliamdemocrats.com/event/2023-01-08-430pm-state-senator-jeremy-mcpike-re-election-campaign-kickoff/
CATEGORIES:Prince William County Democratic Event
ATTACH;FMTTYPE=image/jpeg:https://www.princewilliamdemocrats.com/wp-content/uploads/2023/01/2023-senator-jeremy-mcpike-relection-campaign-kickoff.jpg
END:VEVENT
END:VCALENDAR