BEGIN:VCALENDAR
VERSION:2.0
PRODID:-//Prince William County Democrats - ECPv6.15.20//NONSGML v1.0//EN
CALSCALE:GREGORIAN
METHOD:PUBLISH
X-ORIGINAL-URL:https://www.princewilliamdemocrats.com
X-WR-CALDESC:Events for Prince William County Democrats
REFRESH-INTERVAL;VALUE=DURATION:PT1H
X-Robots-Tag:noindex
X-PUBLISHED-TTL:PT1H
BEGIN:VTIMEZONE
TZID:UTC
BEGIN:STANDARD
TZOFFSETFROM:+0000
TZOFFSETTO:+0000
TZNAME:UTC
DTSTART:20220101T000000
END:STANDARD
END:VTIMEZONE
BEGIN:VEVENT
DTSTART;TZID=UTC:20230107T120000
DTEND;TZID=UTC:20230107T133000
DTSTAMP:20260421T052819
CREATED:20230103T012607Z
LAST-MODIFIED:20230103T012607Z
UID:10001264-1673092800-1673098200@www.princewilliamdemocrats.com
SUMMARY:Meet & Greet Candidates Josh Thomas for & Kerensa Green Sumers
DESCRIPTION:Come to an afternoon Meet & Greet for our Democratic candidates Josh Thomas for Delegate & Kerensa Green Sumers this Saturday\, Jan 7th!\n\n \n\nWe will be collecting petition signatures for Josh Thomas (HD-21)\, Kerensa Sumers (Gainesville Supervisor)\, & Danica Roem (SD-30).\n\n \n\nhttps://www.mobilize.us/princewilliamcountydemocraticcommittee/event/546635/
URL:https://www.princewilliamdemocrats.com/event/2023-01-07-12pm-meet-greet-candidates-josh-thomas-for-kerensa-green-sumers/
CATEGORIES:Prince William County Democratic Event
ATTACH;FMTTYPE=image/jpeg:https://www.princewilliamdemocrats.com/wp-content/uploads/2023/01/2023-meet-and-greet-josh-thomas-kerensa-sumers.jpg
END:VEVENT
BEGIN:VEVENT
DTSTART;TZID=UTC:20230107T120000
DTEND;TZID=UTC:20230107T140000
DTSTAMP:20260421T052819
CREATED:20230103T012305Z
LAST-MODIFIED:20230103T012305Z
UID:10001263-1673092800-1673100000@www.princewilliamdemocrats.com
SUMMARY:Town of Dumfries Swearing-In Ceremony
DESCRIPTION:You’re invited to the Town of Dumfries swearing in ceremony of Mayor Derrick Wood\, Vice Mayor Monae Nickerson\, Councilwoman Selonia Miles\, and Councilwoman Caetrina Peterson
URL:https://www.princewilliamdemocrats.com/event/2023-01-07-12pm-town-of-dumfries-swearing-in-ceremony/
CATEGORIES:Prince William County Democratic Event
ATTACH;FMTTYPE=image/jpeg:https://www.princewilliamdemocrats.com/wp-content/uploads/2023/01/2023-dumfries-swearing-in.jpg
END:VEVENT
BEGIN:VEVENT
DTSTART;TZID=UTC:20230107T140000
DTEND;TZID=UTC:20230107T160000
DTSTAMP:20260421T052819
CREATED:20230107T170002Z
LAST-MODIFIED:20230107T170023Z
UID:10001575-1673100000-1673107200@www.princewilliamdemocrats.com
SUMMARY:Makya Little Canvas Launch
DESCRIPTION:It’s time to get to werk!!! \n\n\nPlease join Friends of Makya Little this Saturday as we host our very first canvassing launch! \n\n\nWe’ll be knocking doors throughout The New 19th to collect signatures to ensure Makya Little for Delegate qualifies for the Democratic primary ballot! \n\n\nRSVP at www.MakyaLittle.com/events and come through reupcollection.com at 2! See you there!
URL:https://www.princewilliamdemocrats.com/event/2023-01-07-2pm-makya-little-canvas-launch/
CATEGORIES:Prince William County Democratic Event
ATTACH;FMTTYPE=image/jpeg:https://www.princewilliamdemocrats.com/wp-content/uploads/2023/01/2023-soles-for-signatures-makya-little.jpg
END:VEVENT
BEGIN:VEVENT
DTSTART;TZID=UTC:20230107T180000
DTEND;TZID=UTC:20230107T190000
DTSTAMP:20260421T052819
CREATED:20230107T171923Z
LAST-MODIFIED:20230107T171923Z
UID:10001577-1673114400-1673118000@www.princewilliamdemocrats.com
SUMMARY:Join Us For A Campaign Launch
DESCRIPTION:Join us for a virtual campaign launch in support of Delegate Candi Mundon King and Delegate Michelle Maldonado – HD50 on Saturday\, Jan 7th!\n\n\nRegister & Donate here:\nhttps://secure.actblue.com/donate/mandmkickoff
URL:https://www.princewilliamdemocrats.com/event/2023-01-07-6pm-join-us-for-a-campaign-launch/
CATEGORIES:Prince William County Democratic Event
ATTACH;FMTTYPE=image/jpeg:https://www.princewilliamdemocrats.com/wp-content/uploads/2023/01/2023-delegate-candi-king-michelle-maldonado.jpg
END:VEVENT
END:VCALENDAR