BEGIN:VCALENDAR
VERSION:2.0
PRODID:-//Prince William County Democrats - ECPv6.15.20//NONSGML v1.0//EN
CALSCALE:GREGORIAN
METHOD:PUBLISH
X-WR-CALNAME:Prince William County Democrats
X-ORIGINAL-URL:https://www.princewilliamdemocrats.com
X-WR-CALDESC:Events for Prince William County Democrats
REFRESH-INTERVAL;VALUE=DURATION:PT1H
X-Robots-Tag:noindex
X-PUBLISHED-TTL:PT1H
BEGIN:VTIMEZONE
TZID:UTC
BEGIN:STANDARD
TZOFFSETFROM:+0000
TZOFFSETTO:+0000
TZNAME:UTC
DTSTART:20210101T000000
END:STANDARD
END:VTIMEZONE
BEGIN:VEVENT
DTSTART;TZID=UTC:20221112T090000
DTEND;TZID=UTC:20221112T100000
DTSTAMP:20260421T092746
CREATED:20221104T031949Z
LAST-MODIFIED:20221104T032057Z
UID:10001554-1668243600-1668247200@www.princewilliamdemocrats.com
SUMMARY:Neabsco District Monthly Meeting
DESCRIPTION:Please contact Neabsco District Leadership for additional details.
URL:https://www.princewilliamdemocrats.com/event/2022-11-12-9am-neabsco-district-monthly-meeting/
LOCATION:Virtual Event
CATEGORIES:District Meeting
ATTACH;FMTTYPE=image/jpeg:https://www.princewilliamdemocrats.com/wp-content/uploads/2021/02/democratic-monthly-meeting.jpg
END:VEVENT
BEGIN:VEVENT
DTSTART;TZID=UTC:20221112T090000
DTEND;TZID=UTC:20221112T100000
DTSTAMP:20260421T092746
CREATED:20221104T032924Z
LAST-MODIFIED:20221104T032952Z
UID:10001557-1668243600-1668247200@www.princewilliamdemocrats.com
SUMMARY:Woodbridge District Monthly Meeting
DESCRIPTION:Please contact Woodbridge District Leadership for additional details.
URL:https://www.princewilliamdemocrats.com/event/2022-11-12-9am-woodbridge-district-monthly-meeting/
LOCATION:Virtual Event
CATEGORIES:District Meeting
ATTACH;FMTTYPE=image/jpeg:https://www.princewilliamdemocrats.com/wp-content/uploads/2021/02/democratic-monthly-meeting.jpg
END:VEVENT
BEGIN:VEVENT
DTSTART;TZID=UTC:20221112T180000
DTEND;TZID=UTC:20221112T200000
DTSTAMP:20260421T092746
CREATED:20221018T143755Z
LAST-MODIFIED:20221018T143839Z
UID:10001542-1668276000-1668283200@www.princewilliamdemocrats.com
SUMMARY:Josh King for PWC - Campaign Kick Off
DESCRIPTION:RSVP: Click Here\n\nCome join Josh King for PWC for a Campaign Kick-Off Saturday\, Nov 12th to celebrate the start of Josh’s race to be the Prince William County Sheriff \n\n\nTickets here:\nhttps://secure.actblue.com/donate/kingforpwckickoff
URL:https://www.princewilliamdemocrats.com/event/2022-11-12-6pm-josh-king-for-pwc-campaign-kick-off/
CATEGORIES:Prince William County Democratic Event
ATTACH;FMTTYPE=image/jpeg:https://www.princewilliamdemocrats.com/wp-content/uploads/2022/10/2022-josh-king-kick-off.jpg
END:VEVENT
END:VCALENDAR