BEGIN:VCALENDAR
VERSION:2.0
PRODID:-//Prince William County Democrats - ECPv6.15.20//NONSGML v1.0//EN
CALSCALE:GREGORIAN
METHOD:PUBLISH
X-WR-CALNAME:Prince William County Democrats
X-ORIGINAL-URL:https://www.princewilliamdemocrats.com
X-WR-CALDESC:Events for Prince William County Democrats
REFRESH-INTERVAL;VALUE=DURATION:PT1H
X-Robots-Tag:noindex
X-PUBLISHED-TTL:PT1H
BEGIN:VTIMEZONE
TZID:UTC
BEGIN:STANDARD
TZOFFSETFROM:+0000
TZOFFSETTO:+0000
TZNAME:UTC
DTSTART:20210101T000000
END:STANDARD
END:VTIMEZONE
BEGIN:VEVENT
DTSTART;TZID=UTC:20221025T143000
DTEND;TZID=UTC:20221025T153000
DTSTAMP:20260421T104928
CREATED:20221022T214534Z
LAST-MODIFIED:20221022T214556Z
UID:10001545-1666708200-1666711800@www.princewilliamdemocrats.com
SUMMARY:Come join Majority Whip James E. Clyburn & Rep. Abigail Spanberger
DESCRIPTION:Come join Majority Whip James E. Clyburn & Rep. Abigail Spanberger for the first day of #EarlyVoting at the Dumfries Community Center\, Tuesday 10/25th  \n\n\n\n Bring a friend and cast your vote. RSVP today: Click Here
URL:https://www.princewilliamdemocrats.com/event/2022-10-25-230pm-come-join-majority-whip-james-e-clyburn-rep-abigail-spanberger/
CATEGORIES:Prince William County Elections
ATTACH;FMTTYPE=image/jpeg:https://www.princewilliamdemocrats.com/wp-content/uploads/2022/10/2022-abigail-spanberger-and-james-clyburn.jpg
END:VEVENT
END:VCALENDAR