BEGIN:VCALENDAR
VERSION:2.0
PRODID:-//Prince William County Democrats - ECPv6.15.20//NONSGML v1.0//EN
CALSCALE:GREGORIAN
METHOD:PUBLISH
X-ORIGINAL-URL:https://www.princewilliamdemocrats.com
X-WR-CALDESC:Events for Prince William County Democrats
REFRESH-INTERVAL;VALUE=DURATION:PT1H
X-Robots-Tag:noindex
X-PUBLISHED-TTL:PT1H
BEGIN:VTIMEZONE
TZID:UTC
BEGIN:STANDARD
TZOFFSETFROM:+0000
TZOFFSETTO:+0000
TZNAME:UTC
DTSTART:20210101T000000
END:STANDARD
END:VTIMEZONE
BEGIN:VEVENT
DTSTART;TZID=UTC:20221003T190000
DTEND;TZID=UTC:20221003T200000
DTSTAMP:20260421T105125
CREATED:20221002T192312Z
LAST-MODIFIED:20221002T192312Z
UID:10001535-1664823600-1664827200@www.princewilliamdemocrats.com
SUMMARY:PWC Black Democratic Committee Monthly Meeting
DESCRIPTION:Please contact PWC Black Democratic Committee Leadership for additional details.
URL:https://www.princewilliamdemocrats.com/event/pwc-black-democratic-committee-monthly-meeting/
LOCATION:Virtual Event
CATEGORIES:District Meeting
ATTACH;FMTTYPE=image/jpeg:https://www.princewilliamdemocrats.com/wp-content/uploads/2021/02/democratic-monthly-meeting.jpg
END:VEVENT
END:VCALENDAR