BEGIN:VCALENDAR
VERSION:2.0
PRODID:-//Prince William County Democrats - ECPv6.15.20//NONSGML v1.0//EN
CALSCALE:GREGORIAN
METHOD:PUBLISH
X-ORIGINAL-URL:https://www.princewilliamdemocrats.com
X-WR-CALDESC:Events for Prince William County Democrats
REFRESH-INTERVAL;VALUE=DURATION:PT1H
X-Robots-Tag:noindex
X-PUBLISHED-TTL:PT1H
BEGIN:VTIMEZONE
TZID:UTC
BEGIN:STANDARD
TZOFFSETFROM:+0000
TZOFFSETTO:+0000
TZNAME:UTC
DTSTART:20210101T000000
END:STANDARD
END:VTIMEZONE
BEGIN:VEVENT
DTSTART;TZID=UTC:20221002T173000
DTEND;TZID=UTC:20221002T190000
DTSTAMP:20260421T105006
CREATED:20221002T175542Z
LAST-MODIFIED:20221002T175542Z
UID:10001230-1664731800-1664737200@www.princewilliamdemocrats.com
SUMMARY:VA-10 Congressional Debate with Jennifer Wexton and Hung Cao
DESCRIPTION:EVENT TOMORROW: The Muslim Association of Virginia is hosting a #VA10 candidate debate between Democrat Congresswoman Jennifer Wexton and her opponent on 10/2 at 5:30pm.\n\n \n\nDoors open for the debate at 4pm at the Dar Al Noor Islamic Community Center–– seating is first come\, first serve\, so get there early!\n\n \n\nRegistration required:\n\n \n\nClick Here\n\n \n\n PWCDC RALLY IS CANCELLED to give PWCDC members time to get seats in the main debate room!!\n\n \n\nCan Watch Virtual: Click Here
URL:https://www.princewilliamdemocrats.com/event/2022-10-02-530pm-va-10-congressional-debate-with-jennifer-wexton-and-hung-cao/
LOCATION:Dar Al Noor Islamic Community\, 5404 Hoadly Rd\, Manassas\, VA\, 20112\, United States
CATEGORIES:Prince William County Elections
ATTACH;FMTTYPE=image/jpeg:https://www.princewilliamdemocrats.com/wp-content/uploads/2022/10/2022-va-10-congressional-debate-jennifer-wexton-hung-cao.jpg
END:VEVENT
END:VCALENDAR