BEGIN:VCALENDAR
VERSION:2.0
PRODID:-//Prince William County Democrats - ECPv6.15.20//NONSGML v1.0//EN
CALSCALE:GREGORIAN
METHOD:PUBLISH
X-ORIGINAL-URL:https://www.princewilliamdemocrats.com
X-WR-CALDESC:Events for Prince William County Democrats
REFRESH-INTERVAL;VALUE=DURATION:PT1H
X-Robots-Tag:noindex
X-PUBLISHED-TTL:PT1H
BEGIN:VTIMEZONE
TZID:UTC
BEGIN:STANDARD
TZOFFSETFROM:+0000
TZOFFSETTO:+0000
TZNAME:UTC
DTSTART:20210101T000000
END:STANDARD
END:VTIMEZONE
BEGIN:VEVENT
DTSTART;TZID=UTC:20220909T200000
DTEND;TZID=UTC:20220909T220000
DTSTAMP:20260421T121634
CREATED:20220909T175010Z
LAST-MODIFIED:20220909T175010Z
UID:10001529-1662753600-1662760800@www.princewilliamdemocrats.com
SUMMARY:Early Voting Volunteering Interest Meeting
DESCRIPTION:Join PWC Democrats as we prepare to GOTV for the 2022 Virginia Election! \nWe’re hosting a virtual Early Voting Volunteer interest meeting on Friday\, September 9th beginning at 8pm. \nMeeting Zoom link will be provided after registration. Click Here
URL:https://www.princewilliamdemocrats.com/event/2022-09-09-8pm-early-voting-volunteering-interest-meeting/
LOCATION:Virtual Event
CATEGORIES:Prince William County Event
END:VEVENT
END:VCALENDAR