BEGIN:VCALENDAR
VERSION:2.0
PRODID:-//Prince William County Democrats - ECPv6.15.20//NONSGML v1.0//EN
CALSCALE:GREGORIAN
METHOD:PUBLISH
X-WR-CALNAME:Prince William County Democrats
X-ORIGINAL-URL:https://www.princewilliamdemocrats.com
X-WR-CALDESC:Events for Prince William County Democrats
REFRESH-INTERVAL;VALUE=DURATION:PT1H
X-Robots-Tag:noindex
X-PUBLISHED-TTL:PT1H
BEGIN:VTIMEZONE
TZID:UTC
BEGIN:STANDARD
TZOFFSETFROM:+0000
TZOFFSETTO:+0000
TZNAME:UTC
DTSTART:20210101T000000
END:STANDARD
END:VTIMEZONE
BEGIN:VEVENT
DTSTART;TZID=UTC:20220710T130000
DTEND;TZID=UTC:20220710T170000
DTSTAMP:20260421T152110
CREATED:20220706T170414Z
LAST-MODIFIED:20220706T170441Z
UID:10001483-1657458000-1657472400@www.princewilliamdemocrats.com
SUMMARY:Jennifer Wexton for Congress - Manassas Canvass
DESCRIPTION:Fore More Details: Click Here \nTime \n\n\nSaturday\, July 9 – Sunday\, July 10\nMultiple times available\n\n\n\n\n\n  \n\n\nLocation \n\n\n9804 Hutchison Ln\nManassas\, VA 20110 \nMap
URL:https://www.princewilliamdemocrats.com/event/2022-07-10-1pm-jennifer-wexton-for-congress-manassas-canvass/
CATEGORIES:Prince William County Canvass
END:VEVENT
END:VCALENDAR