BEGIN:VCALENDAR
VERSION:2.0
PRODID:-//Prince William County Democrats - ECPv6.15.20//NONSGML v1.0//EN
CALSCALE:GREGORIAN
METHOD:PUBLISH
X-WR-CALNAME:Prince William County Democrats
X-ORIGINAL-URL:https://www.princewilliamdemocrats.com
X-WR-CALDESC:Events for Prince William County Democrats
REFRESH-INTERVAL;VALUE=DURATION:PT1H
X-Robots-Tag:noindex
X-PUBLISHED-TTL:PT1H
BEGIN:VTIMEZONE
TZID:UTC
BEGIN:STANDARD
TZOFFSETFROM:+0000
TZOFFSETTO:+0000
TZNAME:UTC
DTSTART:20210101T000000
END:STANDARD
END:VTIMEZONE
BEGIN:VEVENT
DTSTART;TZID=UTC:20220614T183000
DTEND;TZID=UTC:20220614T200000
DTSTAMP:20260421T162730
CREATED:20220613T013947Z
LAST-MODIFIED:20220613T013947Z
UID:10001466-1655231400-1655236800@www.princewilliamdemocrats.com
SUMMARY:Coal Ash Ponds Townhall
DESCRIPTION:We invite you to come hear from the County regarding the status of Dominion Energy proposals\, community input\, and the process moving forward.
URL:https://www.princewilliamdemocrats.com/event/2022-06-14-630pm-coal-ash-ponds-townhall/
CATEGORIES:Prince William County Event
ATTACH;FMTTYPE=image/jpeg:https://www.princewilliamdemocrats.com/wp-content/uploads/2022/06/2022-coalash-ponds-townhall.jpg
END:VEVENT
END:VCALENDAR