BEGIN:VCALENDAR
VERSION:2.0
PRODID:-//Prince William County Democrats - ECPv6.15.20//NONSGML v1.0//EN
CALSCALE:GREGORIAN
METHOD:PUBLISH
X-WR-CALNAME:Prince William County Democrats
X-ORIGINAL-URL:https://www.princewilliamdemocrats.com
X-WR-CALDESC:Events for Prince William County Democrats
REFRESH-INTERVAL;VALUE=DURATION:PT1H
X-Robots-Tag:noindex
X-PUBLISHED-TTL:PT1H
BEGIN:VTIMEZONE
TZID:UTC
BEGIN:STANDARD
TZOFFSETFROM:+0000
TZOFFSETTO:+0000
TZNAME:UTC
DTSTART:20210101T000000
END:STANDARD
END:VTIMEZONE
BEGIN:VEVENT
DTSTART;TZID=UTC:20220511T193000
DTEND;TZID=UTC:20220511T203000
DTSTAMP:20260421T175126
CREATED:20220525T172728Z
LAST-MODIFIED:20220525T172751Z
UID:10001450-1652297400-1652301000@www.princewilliamdemocrats.com
SUMMARY:Prince William Young Democrats Meeting
DESCRIPTION:Prince William Young Democrats Meeting
URL:https://www.princewilliamdemocrats.com/event/2022-05-11-730pm-prince-william-young-democrats-meeting/
CATEGORIES:Prince William Young Democrats Event
ATTACH;FMTTYPE=image/png:https://www.princewilliamdemocrats.com/wp-content/uploads/2021/01/prince-william-county-young-dems.png
END:VEVENT
END:VCALENDAR