BEGIN:VCALENDAR
VERSION:2.0
PRODID:-//Prince William County Democrats - ECPv6.15.20//NONSGML v1.0//EN
CALSCALE:GREGORIAN
METHOD:PUBLISH
X-WR-CALNAME:Prince William County Democrats
X-ORIGINAL-URL:https://www.princewilliamdemocrats.com
X-WR-CALDESC:Events for Prince William County Democrats
REFRESH-INTERVAL;VALUE=DURATION:PT1H
X-Robots-Tag:noindex
X-PUBLISHED-TTL:PT1H
BEGIN:VTIMEZONE
TZID:UTC
BEGIN:STANDARD
TZOFFSETFROM:+0000
TZOFFSETTO:+0000
TZNAME:UTC
DTSTART:20210101T000000
END:STANDARD
END:VTIMEZONE
BEGIN:VEVENT
DTSTART;TZID=UTC:20220423T120000
DTEND;TZID=UTC:20220423T140000
DTSTAMP:20260421T192546
CREATED:20220420T174624Z
LAST-MODIFIED:20220420T174624Z
UID:10001421-1650715200-1650722400@www.princewilliamdemocrats.com
SUMMARY:Prince William County Military Community Meet and Greet with Congresswoman Abigail Spanberger
DESCRIPTION:Join Congresswoman Spanberger for a veterans-focused meet and greet in Woodbridge. Anyone in the military community is welcome to join to meet Abigail\, ask her questions\, and get to know our campaign team. Light snacks and beverages will be provided. \nSign Up for Details: Click Here
URL:https://www.princewilliamdemocrats.com/event/2022-04-23-12pm-prince-william-county-military-community-meet-and-greet-with-congresswoman-abigail-spanberger/
CATEGORIES:Prince William County Democratic Event
ATTACH;FMTTYPE=image/png:https://www.princewilliamdemocrats.com/wp-content/uploads/2022/04/2022-prince-william-county-veterans-meet-greet-abigail-spanberger.png
END:VEVENT
END:VCALENDAR