BEGIN:VCALENDAR
VERSION:2.0
PRODID:-//Prince William County Democrats - ECPv6.15.20//NONSGML v1.0//EN
CALSCALE:GREGORIAN
METHOD:PUBLISH
X-ORIGINAL-URL:https://www.princewilliamdemocrats.com
X-WR-CALDESC:Events for Prince William County Democrats
REFRESH-INTERVAL;VALUE=DURATION:PT1H
X-Robots-Tag:noindex
X-PUBLISHED-TTL:PT1H
BEGIN:VTIMEZONE
TZID:UTC
BEGIN:STANDARD
TZOFFSETFROM:+0000
TZOFFSETTO:+0000
TZNAME:UTC
DTSTART:20210101T000000
END:STANDARD
END:VTIMEZONE
BEGIN:VEVENT
DTSTART;TZID=UTC:20220326T120000
DTEND;TZID=UTC:20220326T130000
DTSTAMP:20260421T205555
CREATED:20220323T013133Z
LAST-MODIFIED:20220323T013209Z
UID:10001411-1648296000-1648299600@www.princewilliamdemocrats.com
SUMMARY:Campaign Announcement - Mayor Derrick Woods
DESCRIPTION:For More Details: Click Here \n\n\n\nMayor Wood will announce his plans for the 2022 election cycle.
URL:https://www.princewilliamdemocrats.com/event/2022-03-26-12pm-campaign-announcement-mayor-derrick-woods/
ATTACH;FMTTYPE=image/jpeg:https://www.princewilliamdemocrats.com/wp-content/uploads/2022/03/2022-derrick-woods-for-mayor-town-of-dumfries.jpg
END:VEVENT
END:VCALENDAR