BEGIN:VCALENDAR
VERSION:2.0
PRODID:-//Prince William County Democrats - ECPv6.15.20//NONSGML v1.0//EN
CALSCALE:GREGORIAN
METHOD:PUBLISH
X-ORIGINAL-URL:https://www.princewilliamdemocrats.com
X-WR-CALDESC:Events for Prince William County Democrats
REFRESH-INTERVAL;VALUE=DURATION:PT1H
X-Robots-Tag:noindex
X-PUBLISHED-TTL:PT1H
BEGIN:VTIMEZONE
TZID:UTC
BEGIN:STANDARD
TZOFFSETFROM:+0000
TZOFFSETTO:+0000
TZNAME:UTC
DTSTART:20210101T000000
END:STANDARD
END:VTIMEZONE
BEGIN:VEVENT
DTSTART;TZID=UTC:20220312T090000
DTEND;TZID=UTC:20220312T110000
DTSTAMP:20260421T205556
CREATED:20220306T222017Z
LAST-MODIFIED:20220306T222042Z
UID:10001395-1647075600-1647082800@www.princewilliamdemocrats.com
SUMMARY:Neabsco District Monthly Meeting
DESCRIPTION:Please contact Neabsco District Leadership for additional details.
URL:https://www.princewilliamdemocrats.com/event/2022-03-12-9am-neabsco-district-monthly-meeting/
CATEGORIES:District Meeting
ATTACH;FMTTYPE=image/jpeg:https://www.princewilliamdemocrats.com/wp-content/uploads/2021/02/democratic-monthly-meeting.jpg
END:VEVENT
BEGIN:VEVENT
DTSTART;TZID=UTC:20220312T090000
DTEND;TZID=UTC:20220312T110000
DTSTAMP:20260421T205556
CREATED:20220306T222253Z
LAST-MODIFIED:20220306T222517Z
UID:10001396-1647075600-1647082800@www.princewilliamdemocrats.com
SUMMARY:Woodbridge District Monthly Meeting
DESCRIPTION:Please contact Woodbridge District Leadership for additional details.
URL:https://www.princewilliamdemocrats.com/event/2022-03-12-9am-woodbridge-district-monthly-meeting/
LOCATION:Virtual Event
CATEGORIES:District Meeting
ATTACH;FMTTYPE=image/jpeg:https://www.princewilliamdemocrats.com/wp-content/uploads/2021/02/democratic-monthly-meeting.jpg
END:VEVENT
BEGIN:VEVENT
DTSTART;TZID=UTC:20220312T120000
DTEND;TZID=UTC:20220312T150000
DTSTAMP:20260421T205556
CREATED:20220307T025330Z
LAST-MODIFIED:20220307T025354Z
UID:10001403-1647086400-1647097200@www.princewilliamdemocrats.com
SUMMARY:Prince William County Canvass Launch - Abigail Spanberger for Congress
DESCRIPTION:For More Details: Click Here \nJoin Team Spanberger as we canvass in PWC to collect petition signatures and get Abigail on the ballot! We will provide training and PPE\, as well as COVID-19 protocols for safe canvassing.
URL:https://www.princewilliamdemocrats.com/event/2022-03-12-12pm-prince-william-county-canvass-launch-abigail-spanberger-for-congress/
CATEGORIES:Prince William County Democratic Event
ATTACH;FMTTYPE=image/jpeg:https://www.princewilliamdemocrats.com/wp-content/uploads/2022/03/2022-03-12-spanberger-for-congress-canvass.jpg
END:VEVENT
END:VCALENDAR