BEGIN:VCALENDAR
VERSION:2.0
PRODID:-//Prince William County Democrats - ECPv6.15.20//NONSGML v1.0//EN
CALSCALE:GREGORIAN
METHOD:PUBLISH
X-ORIGINAL-URL:https://www.princewilliamdemocrats.com
X-WR-CALDESC:Events for Prince William County Democrats
REFRESH-INTERVAL;VALUE=DURATION:PT1H
X-Robots-Tag:noindex
X-PUBLISHED-TTL:PT1H
BEGIN:VTIMEZONE
TZID:UTC
BEGIN:STANDARD
TZOFFSETFROM:+0000
TZOFFSETTO:+0000
TZNAME:UTC
DTSTART:20210101T000000
END:STANDARD
END:VTIMEZONE
BEGIN:VEVENT
DTSTART;TZID=UTC:20220306T120000
DTEND;TZID=UTC:20220306T150000
DTSTAMP:20260421T205607
CREATED:20220307T024737Z
LAST-MODIFIED:20220307T024737Z
UID:10001402-1646568000-1646578800@www.princewilliamdemocrats.com
SUMMARY:Prince William County Canvass Launches - Abigail Spanberger for Congress
DESCRIPTION:Today’s Happy Hour Phone Bank for Abigail Spanberger kicks off a Weekend of Action \nhttps://www.mobilize.us/spanbergerforcongress/event/439816/\n\n\nJoin us Saturday & Sunday for two Canvass Launches \nhttps://www.mobilize.us/spanbergerforcongress/event/440483/o
URL:https://www.princewilliamdemocrats.com/event/2022-03-06-12pm-prince-william-county-canvass-launches-abigail-spanberger-for-congress/
CATEGORIES:Prince William County Democratic Event
ATTACH;FMTTYPE=image/jpeg:https://www.princewilliamdemocrats.com/wp-content/uploads/2022/03/2022-prince-william-team-spanberger-canvass-launches.jpg
END:VEVENT
END:VCALENDAR