BEGIN:VCALENDAR
VERSION:2.0
PRODID:-//Prince William County Democrats - ECPv6.15.20//NONSGML v1.0//EN
CALSCALE:GREGORIAN
METHOD:PUBLISH
X-ORIGINAL-URL:https://www.princewilliamdemocrats.com
X-WR-CALDESC:Events for Prince William County Democrats
REFRESH-INTERVAL;VALUE=DURATION:PT1H
X-Robots-Tag:noindex
X-PUBLISHED-TTL:PT1H
BEGIN:VTIMEZONE
TZID:UTC
BEGIN:STANDARD
TZOFFSETFROM:+0000
TZOFFSETTO:+0000
TZNAME:UTC
DTSTART:20210101T000000
END:STANDARD
END:VTIMEZONE
BEGIN:VEVENT
DTSTART;TZID=UTC:20220305T100000
DTEND;TZID=UTC:20220305T110000
DTSTAMP:20260421T205601
CREATED:20220306T221434Z
LAST-MODIFIED:20220307T230454Z
UID:10001392-1646474400-1646478000@www.princewilliamdemocrats.com
SUMMARY:Coles District Monthly Meeting
DESCRIPTION:Please contact Coles District Leadership for additional details.
URL:https://www.princewilliamdemocrats.com/event/2022-03-05-10am-coles-district-monthly-meeting/
LOCATION:Virtual Event
CATEGORIES:District Meeting
ATTACH;FMTTYPE=image/jpeg:https://www.princewilliamdemocrats.com/wp-content/uploads/2021/02/democratic-monthly-meeting.jpg
END:VEVENT
BEGIN:VEVENT
DTSTART;TZID=UTC:20220305T120000
DTEND;TZID=UTC:20220305T150000
DTSTAMP:20260421T205601
CREATED:20220307T024327Z
LAST-MODIFIED:20220307T024618Z
UID:10001401-1646481600-1646492400@www.princewilliamdemocrats.com
SUMMARY:Prince William County Canvass Launches - Abigail Spanberger for Congress
DESCRIPTION:Today’s Happy Hour Phone Bank for Abigail Spanberger kicks off a Weekend of Action \nhttps://www.mobilize.us/spanbergerforcongress/event/439816/\n\n\nJoin us Saturday & Sunday for two Canvass Launches \nhttps://www.mobilize.us/spanbergerforcongress/event/440483/o
URL:https://www.princewilliamdemocrats.com/event/2022-03-05-12pm-prince-william-county-canvass-launches-abigail-spanberger-for-congress/
CATEGORIES:Prince William County Democratic Event
ATTACH;FMTTYPE=image/jpeg:https://www.princewilliamdemocrats.com/wp-content/uploads/2022/03/2022-prince-william-team-spanberger-canvass-launches.jpg
END:VEVENT
END:VCALENDAR