BEGIN:VCALENDAR
VERSION:2.0
PRODID:-//Prince William County Democrats - ECPv6.15.20//NONSGML v1.0//EN
CALSCALE:GREGORIAN
METHOD:PUBLISH
X-WR-CALNAME:Prince William County Democrats
X-ORIGINAL-URL:https://www.princewilliamdemocrats.com
X-WR-CALDESC:Events for Prince William County Democrats
REFRESH-INTERVAL;VALUE=DURATION:PT1H
X-Robots-Tag:noindex
X-PUBLISHED-TTL:PT1H
BEGIN:VTIMEZONE
TZID:UTC
BEGIN:STANDARD
TZOFFSETFROM:+0000
TZOFFSETTO:+0000
TZNAME:UTC
DTSTART:20210101T000000
END:STANDARD
END:VTIMEZONE
BEGIN:VEVENT
DTSTART;TZID=UTC:20220217T183000
DTEND;TZID=UTC:20220217T200000
DTSTAMP:20260422T011205
CREATED:20220216T164239Z
LAST-MODIFIED:20220216T164239Z
UID:10001121-1645122600-1645128000@www.princewilliamdemocrats.com
SUMMARY:Boddye Birthday Bash 2022!
DESCRIPTION:For More Details: Click Here\n\nThe Boddye Birthday Bash is back!\nJoin Supervisor Kenny Boddye and supporters for a *virtual* celebratory fundraiser in honor of his 35th birthday with special guest Jennifer Carroll Foy!\n\nWhen: Thursday\, February 17 6:30 PM – 8:00 PM\nWhere: Zoom (Link provided upon ticket purchase)\n\nDespite challenges of the past two years\, the Democratic majority on the Board of Supervisors has accomplished much. From increased investments in our schools\, improving our local health systems\, establishing a sustainability program\, or fighting for inclusion\, Prince William County has come a long way.\n\nCome catch up with Kenny\, Jennifer\, and supporters in a casual atmosphere as we celebrate our successes\, reflect on the work to be done ahead\, and wish Kenny a happy birthday!\n\nNote: If you would like to attend\, but want to send a check instead\, please email kenboddye@gmail.com and the check can be mailed to P.O. Box 8285\, Woodbridge\, VA 22195
URL:https://www.princewilliamdemocrats.com/event/2022-02-17-630pm-boddye-birthday-bash-2022/
CATEGORIES:Prince William County Democratic Event
ATTACH;FMTTYPE=image/jpeg:https://www.princewilliamdemocrats.com/wp-content/uploads/2022/02/2022-boddye-birthday-bash.jpg
END:VEVENT
END:VCALENDAR