BEGIN:VCALENDAR
VERSION:2.0
PRODID:-//Prince William County Democrats - ECPv6.15.20//NONSGML v1.0//EN
CALSCALE:GREGORIAN
METHOD:PUBLISH
X-ORIGINAL-URL:https://www.princewilliamdemocrats.com
X-WR-CALDESC:Events for Prince William County Democrats
REFRESH-INTERVAL;VALUE=DURATION:PT1H
X-Robots-Tag:noindex
X-PUBLISHED-TTL:PT1H
BEGIN:VTIMEZONE
TZID:UTC
BEGIN:STANDARD
TZOFFSETFROM:+0000
TZOFFSETTO:+0000
TZNAME:UTC
DTSTART:20210101T000000
END:STANDARD
END:VTIMEZONE
BEGIN:VEVENT
DTSTART;TZID=UTC:20220213T120000
DTEND;TZID=UTC:20220213T150000
DTSTAMP:20260422T011246
CREATED:20220210T025741Z
LAST-MODIFIED:20220210T025741Z
UID:10001379-1644753600-1644764400@www.princewilliamdemocrats.com
SUMMARY:Canvass with Team Spanberger in Prince William County
DESCRIPTION:For More Details: Click Here
URL:https://www.princewilliamdemocrats.com/event/2022-02-13-12pm-canvass-with-team-spanberger-in-prince-william-county/
CATEGORIES:Prince William County Canvass
ATTACH;FMTTYPE=image/jpeg:https://www.princewilliamdemocrats.com/wp-content/uploads/2022/02/2022-spanberger-for-congress-prince-william-county.jpg
END:VEVENT
END:VCALENDAR