BEGIN:VCALENDAR
VERSION:2.0
PRODID:-//Prince William County Democrats - ECPv6.15.20//NONSGML v1.0//EN
CALSCALE:GREGORIAN
METHOD:PUBLISH
X-WR-CALNAME:Prince William County Democrats
X-ORIGINAL-URL:https://www.princewilliamdemocrats.com
X-WR-CALDESC:Events for Prince William County Democrats
REFRESH-INTERVAL;VALUE=DURATION:PT1H
X-Robots-Tag:noindex
X-PUBLISHED-TTL:PT1H
BEGIN:VTIMEZONE
TZID:UTC
BEGIN:STANDARD
TZOFFSETFROM:+0000
TZOFFSETTO:+0000
TZNAME:UTC
DTSTART:20210101T000000
END:STANDARD
END:VTIMEZONE
BEGIN:VEVENT
DTSTART;TZID=UTC:20220126T083000
DTEND;TZID=UTC:20220126T110000
DTSTAMP:20260422T023551
CREATED:20220123T002305Z
LAST-MODIFIED:20220123T002305Z
UID:10001350-1643185800-1643194800@www.princewilliamdemocrats.com
SUMMARY:Womens Legislative Roundtable 2022
DESCRIPTION:For More Details: Click Here\n\n \n\nLEAGUE DAY IN PERSON WITH VIRTUAL OPTION\nOn Wednesday mornings during the General Assembly session\, LWV-VA provides a free\, public\, nonpartisan forum to discuss and share information on issues and legislation. This is our Day to talk with legislators and share our legislative priorities. Contact your Delegate and state Senator for appointments.\n\n \n\nRegister for this free event at https://www.eventbrite.com/…/womens-legislative…\n\n \n\nLegislators are invited to speak about bills they are sponsoring and to answer questions. Leaders of nonprofit groups are welcome to talk about their priority issues. LWV-VA lobbyists and Issue Group Leaders give updates on LWV-VA priority issues.\n\n \n\nLearn more about the League of Women Voters of Virginia at https://lwv-va.org/
URL:https://www.princewilliamdemocrats.com/event/2022-01-26-830am-womens-legislative-roundtable-2022/
LOCATION:Virtual Event
CATEGORIES:Virginia Event
ATTACH;FMTTYPE=image/jpeg:https://www.princewilliamdemocrats.com/wp-content/uploads/2022/01/2022-celebrating-101-years-of-empowering-voters.jpg
END:VEVENT
END:VCALENDAR