BEGIN:VCALENDAR
VERSION:2.0
PRODID:-//Prince William County Democrats - ECPv6.15.20//NONSGML v1.0//EN
CALSCALE:GREGORIAN
METHOD:PUBLISH
X-WR-CALNAME:Prince William County Democrats
X-ORIGINAL-URL:https://www.princewilliamdemocrats.com
X-WR-CALDESC:Events for Prince William County Democrats
REFRESH-INTERVAL;VALUE=DURATION:PT1H
X-Robots-Tag:noindex
X-PUBLISHED-TTL:PT1H
BEGIN:VTIMEZONE
TZID:UTC
BEGIN:STANDARD
TZOFFSETFROM:+0000
TZOFFSETTO:+0000
TZNAME:UTC
DTSTART:20210101T000000
END:STANDARD
END:VTIMEZONE
BEGIN:VEVENT
DTSTART;TZID=UTC:20220117T080000
DTEND;TZID=UTC:20220117T170000
DTSTAMP:20260422T023557
CREATED:20220117T215757Z
LAST-MODIFIED:20220117T215951Z
UID:10001346-1642406400-1642438800@www.princewilliamdemocrats.com
SUMMARY:Virginia Young Dems Virtual Lobby Day
DESCRIPTION:For More Details: Click Here \n\nWe’re holding our lobby day virtually on January 17th! Sign up now to get to meet with Senate and Delegate offices and talk about the issues that matter most to YOU.\n\n\n\nGo to VAYD.org/LobbyDay2022
URL:https://www.princewilliamdemocrats.com/event/2022-01-17-virginia-young-dems-virtual-lobby-day/
LOCATION:Virtual Event
CATEGORIES:Prince William Young Democrats Event
ATTACH;FMTTYPE=image/jpeg:https://www.princewilliamdemocrats.com/wp-content/uploads/2022/01/2022-young-dems-virtual-lobby-day.jpg
END:VEVENT
END:VCALENDAR