BEGIN:VCALENDAR
VERSION:2.0
PRODID:-//Prince William County Democrats - ECPv6.15.20//NONSGML v1.0//EN
CALSCALE:GREGORIAN
METHOD:PUBLISH
X-WR-CALNAME:Prince William County Democrats
X-ORIGINAL-URL:https://www.princewilliamdemocrats.com
X-WR-CALDESC:Events for Prince William County Democrats
REFRESH-INTERVAL;VALUE=DURATION:PT1H
X-Robots-Tag:noindex
X-PUBLISHED-TTL:PT1H
BEGIN:VTIMEZONE
TZID:UTC
BEGIN:STANDARD
TZOFFSETFROM:+0000
TZOFFSETTO:+0000
TZNAME:UTC
DTSTART:20200101T000000
END:STANDARD
END:VTIMEZONE
BEGIN:VEVENT
DTSTART;TZID=UTC:20211111T170000
DTEND;TZID=UTC:20211111T200000
DTSTAMP:20260422T051451
CREATED:20211104T194647Z
LAST-MODIFIED:20211104T194912Z
UID:10001306-1636650000-1636660800@www.princewilliamdemocrats.com
SUMMARY:Continuing Service Fundraiser for Victor S. Angry - Neabsco District Supervisor
DESCRIPTION:Come join Neabsco District Supervisor S. Angry at Epiq Food Hall with special guest Jennifer Carroll-Foy \nFor More Details: Click Here
URL:https://www.princewilliamdemocrats.com/event/2021-11-11-5pm-continuing-service-fundraiser-for-victor-s-angry-neabsco-district-supervisor/
LOCATION:Epiq Food Hall\, 14067 Noblewood Plaza\, Woodbridge\, VA\, 22193\, United States
CATEGORIES:Prince William County Democratic Event
ATTACH;FMTTYPE=image/png:https://www.princewilliamdemocrats.com/wp-content/uploads/2021/11/continuing-service-fundraiser-for-victor-s-angry.png
END:VEVENT
END:VCALENDAR