BEGIN:VCALENDAR
VERSION:2.0
PRODID:-//Prince William County Democrats - ECPv6.15.20//NONSGML v1.0//EN
CALSCALE:GREGORIAN
METHOD:PUBLISH
X-ORIGINAL-URL:https://www.princewilliamdemocrats.com
X-WR-CALDESC:Events for Prince William County Democrats
REFRESH-INTERVAL;VALUE=DURATION:PT1H
X-Robots-Tag:noindex
X-PUBLISHED-TTL:PT1H
BEGIN:VTIMEZONE
TZID:UTC
BEGIN:STANDARD
TZOFFSETFROM:+0000
TZOFFSETTO:+0000
TZNAME:UTC
DTSTART:20200101T000000
END:STANDARD
END:VTIMEZONE
BEGIN:VEVENT
DTSTART;TZID=UTC:20211030T120000
DTEND;TZID=UTC:20211102T190000
DTSTAMP:20260422T091827
CREATED:20211030T170344Z
LAST-MODIFIED:20211030T171152Z
UID:10001076-1635595200-1635879600@www.princewilliamdemocrats.com
SUMMARY:Knock Doors in Dumfries to Get Out the Vote! -Terry McAuliffe\, Hala Ayala\, Mark Herring\, Elizabeth Guzman & Dems
DESCRIPTION:For More Details / Sign Up: Click Here \n\n\n\nKnock doors in Dumfries to Get Out the Vote and talk to voters about why Terry McAuliffe\, Hala Ayala\, Mark Herring\, Elizabeth Guzman & Dems up and down the ticket are the right people to move Virginia forward in 2021! \n\n\n\nFor COVID safety\, this event will be launched outdoors. Volunteers should wear masks if they would like to\, but masks are not mandatory for outdoor launches. \n\n\n\nIf you have any accessibility needs\, please let our team know by emailing or texting the event organizer so that we can make sure the event will be accessible and comfortable for you.
URL:https://www.princewilliamdemocrats.com/event/2021-10-knock-doors-in-dumfries-to-get-out-the-vote-terry-mcauliffe-hala-ayala-mark-herring-elizabeth-guzman-dems/
CATEGORIES:Prince William County Elections
ATTACH;FMTTYPE=image/png:https://www.princewilliamdemocrats.com/wp-content/uploads/2021/10/2021-knock-doors-to-get-out-the-vote.png
END:VEVENT
BEGIN:VEVENT
DTSTART;TZID=UTC:20211102T193000
DTEND;TZID=UTC:20211102T210000
DTSTAMP:20260422T091827
CREATED:20211101T192508Z
LAST-MODIFIED:20211101T192508Z
UID:10001079-1635881400-1635886800@www.princewilliamdemocrats.com
SUMMARY:Election Night Watch Party
DESCRIPTION:For More Details: Click Here\n\n \n\nThe PWCDC & the MMPCDC invite you to our 2021 Election Night Watch Party \n\n \n\nWe’ll be kicking off the party at 7:30pm at the Salisbury Center in Manassas (8890 Mathis Ave\, Manassas VA 20110)\, so join in the fun as we celebrate our Democratic candidates and all our hard work this year.\n\n \n\nRefreshments & non-alcoholic beverages will be provided\, and there will be a cash bar. We can’t wait to see you all there!\n\n \n\nRSVP our SignUp Genius:\nhttps://www.signupgenius.com/go/10C0F4BAFAB22A4FACF8-2021
URL:https://www.princewilliamdemocrats.com/event/election-night-watch-party/
CATEGORIES:Prince William County Democratic Event
ATTACH;FMTTYPE=image/jpeg:https://www.princewilliamdemocrats.com/wp-content/uploads/2021/11/2021-prince-william-democrats-election-watch-party.jpg
END:VEVENT
END:VCALENDAR