BEGIN:VCALENDAR
VERSION:2.0
PRODID:-//Prince William County Democrats - ECPv6.15.20//NONSGML v1.0//EN
CALSCALE:GREGORIAN
METHOD:PUBLISH
X-WR-CALNAME:Prince William County Democrats
X-ORIGINAL-URL:https://www.princewilliamdemocrats.com
X-WR-CALDESC:Events for Prince William County Democrats
REFRESH-INTERVAL;VALUE=DURATION:PT1H
X-Robots-Tag:noindex
X-PUBLISHED-TTL:PT1H
BEGIN:VTIMEZONE
TZID:UTC
BEGIN:STANDARD
TZOFFSETFROM:+0000
TZOFFSETTO:+0000
TZNAME:UTC
DTSTART:20200101T000000
END:STANDARD
END:VTIMEZONE
BEGIN:VEVENT
DTSTART;TZID=UTC:20211030T110000
DTEND;TZID=UTC:20211030T130000
DTSTAMP:20260422T063817
CREATED:20211009T232657Z
LAST-MODIFIED:20211009T232657Z
UID:10001273-1635591600-1635598800@www.princewilliamdemocrats.com
SUMMARY:Canvass and Coffee with Team King on Saturday Mornings!
DESCRIPTION:For More Details: Click Here \nJoin us for a canvass in House District 2 to talk with your neighbors about the issues that are important to them — and why Candi King\, Terry McAuliffe\, Hala Ayala\, and Mark Herring are the right people to move Virginia forward in 2021! \nPlease be mindful of COVID-19 safety protocols; all volunteers must be vaccinated or fully compliant with CDC guidance including\, wearing a mask\, and social distancing.
URL:https://www.princewilliamdemocrats.com/event/2021-10-30-11am-canvass-and-coffee-with-team-king-on-saturday-mornings/
CATEGORIES:Prince William County Canvass
ATTACH;FMTTYPE=image/jpeg:https://www.princewilliamdemocrats.com/wp-content/uploads/2021/10/2021-canvass-and-coffee-with-team-king.jpg
END:VEVENT
BEGIN:VEVENT
DTSTART;TZID=UTC:20211030T120000
DTEND;TZID=UTC:20211101T200000
DTSTAMP:20260422T063817
CREATED:20211030T171340Z
LAST-MODIFIED:20211030T171351Z
UID:10001077-1635595200-1635796800@www.princewilliamdemocrats.com
SUMMARY:Get Out the Vote for Danica Roem in Gainesville
DESCRIPTION:For More Details / Sign Up: Click Here \n\n\n\nKnock doors in Gainesville and Haymarket to talk to voters about why we should re-elect Delegate Danica Roem in 2021! Help us remind voters of the importance of this year’s election and share information on voting early or on election day! \n\n\n\nThis event will be hosted outdoors. Masks are encouraged for all volunteers at the event and while knocking doors. \n\n\n\nTraining will be provided on-site. If you have any questions\, please email the event organizer!
URL:https://www.princewilliamdemocrats.com/event/2021-10-get-out-the-vote-for-danica-roem-in-gainesville/
CATEGORIES:Prince William County Elections
ATTACH;FMTTYPE=image/jpeg:https://www.princewilliamdemocrats.com/wp-content/uploads/2021/10/2021-haymarket-day-dems.jpg
END:VEVENT
BEGIN:VEVENT
DTSTART;TZID=UTC:20211030T120000
DTEND;TZID=UTC:20211102T190000
DTSTAMP:20260422T063817
CREATED:20211030T170344Z
LAST-MODIFIED:20211030T171152Z
UID:10001076-1635595200-1635879600@www.princewilliamdemocrats.com
SUMMARY:Knock Doors in Dumfries to Get Out the Vote! -Terry McAuliffe\, Hala Ayala\, Mark Herring\, Elizabeth Guzman & Dems
DESCRIPTION:For More Details / Sign Up: Click Here \n\n\n\nKnock doors in Dumfries to Get Out the Vote and talk to voters about why Terry McAuliffe\, Hala Ayala\, Mark Herring\, Elizabeth Guzman & Dems up and down the ticket are the right people to move Virginia forward in 2021! \n\n\n\nFor COVID safety\, this event will be launched outdoors. Volunteers should wear masks if they would like to\, but masks are not mandatory for outdoor launches. \n\n\n\nIf you have any accessibility needs\, please let our team know by emailing or texting the event organizer so that we can make sure the event will be accessible and comfortable for you.
URL:https://www.princewilliamdemocrats.com/event/2021-10-knock-doors-in-dumfries-to-get-out-the-vote-terry-mcauliffe-hala-ayala-mark-herring-elizabeth-guzman-dems/
CATEGORIES:Prince William County Elections
ATTACH;FMTTYPE=image/png:https://www.princewilliamdemocrats.com/wp-content/uploads/2021/10/2021-knock-doors-to-get-out-the-vote.png
END:VEVENT
BEGIN:VEVENT
DTSTART;TZID=UTC:20211030T130000
DTEND;TZID=UTC:20211030T150000
DTSTAMP:20260422T063817
CREATED:20211009T232810Z
LAST-MODIFIED:20211009T232810Z
UID:10001275-1635598800-1635606000@www.princewilliamdemocrats.com
SUMMARY:Canvass and Coffee with Team King on Saturday Mornings!
DESCRIPTION:For More Details: Click Here \nJoin us for a canvass in House District 2 to talk with your neighbors about the issues that are important to them — and why Candi King\, Terry McAuliffe\, Hala Ayala\, and Mark Herring are the right people to move Virginia forward in 2021! \nPlease be mindful of COVID-19 safety protocols; all volunteers must be vaccinated or fully compliant with CDC guidance including\, wearing a mask\, and social distancing.
URL:https://www.princewilliamdemocrats.com/event/2021-10-30-1pm-canvass-and-coffee-with-team-king-on-saturday-mornings/
CATEGORIES:Prince William County Canvass
ATTACH;FMTTYPE=image/jpeg:https://www.princewilliamdemocrats.com/wp-content/uploads/2021/10/2021-canvass-and-coffee-with-team-king.jpg
END:VEVENT
BEGIN:VEVENT
DTSTART;TZID=UTC:20211030T130000
DTEND;TZID=UTC:20211030T150000
DTSTAMP:20260422T063817
CREATED:20211030T165258Z
LAST-MODIFIED:20211030T170013Z
UID:10001075-1635598800-1635606000@www.princewilliamdemocrats.com
SUMMARY:Stroll to the Polls Canvass Launch with Special Guests Ai-jen Poo and Senator Jennifer McClellan!
DESCRIPTION:For More Details / Sign Up: Click Here \n\n\n\nJoin us for a Strolls to the Polls in Prince William County to talk with your neighbors about the issues that are important to them — and why Candi King\, Terry McAuliffe\, Hala Ayala\, and Mark Herring are the right people to move Virginia forward in 2021! \n\n\n\nWe are thrilled to be joined this weekend many special guests and hosts. Including Senator Jennifer McClellan\, Delegate Luke Torian\, Delegate Candi King and Briana Sewell! Hosted by Rod Hall\, Joe & Vera Fletcher\, Supervisor Andrea Bailey and Mayor Derrick Wood. \n\n\n\nPlease be mindful of COVID-19 safety protocols; all volunteers must be vaccinated or fully compliant with CDC guidance including\, wearing a mask\, and social distancing.
URL:https://www.princewilliamdemocrats.com/event/2021-10-30-1pm-stroll-to-the-polls-canvass-launch-with-special-guests-ai-jen-poo-and-senator-jennifer-mcclellan/
LOCATION:Woodbridge\, 15461 Cagney Ct\, Woodbridge\, VA\, 22193\, United States
CATEGORIES:Prince William County Elections
ATTACH;FMTTYPE=image/png:https://www.princewilliamdemocrats.com/wp-content/uploads/2021/10/2021-stroll-polls-canvass-launch.png
END:VEVENT
BEGIN:VEVENT
DTSTART;TZID=UTC:20211030T140000
DTEND;TZID=UTC:20211030T160000
DTSTAMP:20260422T063817
CREATED:20211009T223348Z
LAST-MODIFIED:20211009T223405Z
UID:10001061-1635602400-1635609600@www.princewilliamdemocrats.com
SUMMARY:NoVa Virtual Phonebank for Democrats!
DESCRIPTION:For More Details: Click Here \nJoin us for our weekly virtual phonebanks to talk with your neighbors about the issues that are important to them — and why Terry McAuliffe\, Hala Ayala\, Mark Herring\, and their respective House Delegate are the right people to move Virginia forward in 2021! \nAs you know\, this election is going to be very competitive and we need to do our job of turning out every single vote to make sure we keep VA blue this November. Conversations with voters are the most powerful way to affect an election\, so the calls you make will make the difference in winning across the state in November. \nWe’ll start with a brief training so whether you’re a seasoned pro or have never gotten involved in politics before\, we have a place for you on this campaign. All you need is a computer or tablet and a phone! \nYou’ll get an email from us in advance with the Zoom link. See you soon!
URL:https://www.princewilliamdemocrats.com/event/2021-10-30-2pm-nova-virtual-phonebank-for-democrats/
CATEGORIES:Prince William County Democratic Phone Bank Event
ATTACH;FMTTYPE=image/jpeg:https://www.princewilliamdemocrats.com/wp-content/uploads/2021/10/2021-nova-phonebank-for-democrats.jpg
END:VEVENT
END:VCALENDAR