BEGIN:VCALENDAR
VERSION:2.0
PRODID:-//Prince William County Democrats - ECPv6.15.20//NONSGML v1.0//EN
CALSCALE:GREGORIAN
METHOD:PUBLISH
X-WR-CALNAME:Prince William County Democrats
X-ORIGINAL-URL:https://www.princewilliamdemocrats.com
X-WR-CALDESC:Events for Prince William County Democrats
REFRESH-INTERVAL;VALUE=DURATION:PT1H
X-Robots-Tag:noindex
X-PUBLISHED-TTL:PT1H
BEGIN:VTIMEZONE
TZID:UTC
BEGIN:STANDARD
TZOFFSETFROM:+0000
TZOFFSETTO:+0000
TZNAME:UTC
DTSTART:20200101T000000
END:STANDARD
END:VTIMEZONE
BEGIN:VEVENT
DTSTART;TZID=UTC:20211023T100000
DTEND;TZID=UTC:20211023T130000
DTSTAMP:20260422T091748
CREATED:20211005T021103Z
LAST-MODIFIED:20211005T021103Z
UID:10001243-1634983200-1634994000@www.princewilliamdemocrats.com
SUMMARY:Canvass With Team Maldonado
DESCRIPTION:For More Details: Click Here \nCome join Team Michelle Maldonado as we talk to voters across the 50th district to help elect her to the Virginia House of Delegates. \nA small training will take place before we hit the doors. We will be launching from our office at 9236 Mosby St\, Suite A\, Manassas\, VA 20110 \n 
URL:https://www.princewilliamdemocrats.com/event/2021-10-23-10am-canvass-with-team-maldonado/
CATEGORIES:Prince William County Canvass
ATTACH;FMTTYPE=image/jpeg:https://www.princewilliamdemocrats.com/wp-content/uploads/2021/08/2021-canvass-with-team-maldonado.jpeg
END:VEVENT
BEGIN:VEVENT
DTSTART;TZID=UTC:20211023T110000
DTEND;TZID=UTC:20211023T130000
DTSTAMP:20260422T091748
CREATED:20211009T232241Z
LAST-MODIFIED:20211009T232303Z
UID:10001270-1634986800-1634994000@www.princewilliamdemocrats.com
SUMMARY:Canvass and Coffee with Team King on Saturday Mornings!
DESCRIPTION:For More Details: Click Here \nJoin us for a canvass in House District 2 to talk with your neighbors about the issues that are important to them — and why Candi King\, Terry McAuliffe\, Hala Ayala\, and Mark Herring are the right people to move Virginia forward in 2021! \nPlease be mindful of COVID-19 safety protocols; all volunteers must be vaccinated or fully compliant with CDC guidance including\, wearing a mask\, and social distancing.
URL:https://www.princewilliamdemocrats.com/event/2021-10-23-10am-canvass-and-coffee-with-team-king-on-saturday-mornings/
CATEGORIES:Prince William County Canvass
ATTACH;FMTTYPE=image/jpeg:https://www.princewilliamdemocrats.com/wp-content/uploads/2021/10/2021-canvass-and-coffee-with-team-king.jpg
END:VEVENT
BEGIN:VEVENT
DTSTART;TZID=UTC:20211023T120000
DTEND;TZID=UTC:20211023T150000
DTSTAMP:20260422T091748
CREATED:20211010T203753Z
LAST-MODIFIED:20211010T203753Z
UID:10001296-1634990400-1635001200@www.princewilliamdemocrats.com
SUMMARY:Day of Action with Team Maldonado
DESCRIPTION:For More Details: Click Here \nCome join Team Michelle Maldonado along with several of the local committees and caucuses that have endorsed Michelle in a day of action\, as we talk to voters across the 50th district to help elect her to the Virginia House of Delegates. \nA small training will take place before we hit the doors. We will be launching from our office at 9236 Mosby St\, Suite A\, Manassas\, VA 20110
URL:https://www.princewilliamdemocrats.com/event/2021-10-23-12pm-day-of-action-with-team-maldonado/
CATEGORIES:Prince William County Canvass
ATTACH;FMTTYPE=image/jpeg:https://www.princewilliamdemocrats.com/wp-content/uploads/2021/10/2021-day-of-action-with-maldonado.jpeg
END:VEVENT
BEGIN:VEVENT
DTSTART;TZID=UTC:20211023T120000
DTEND;TZID=UTC:20211023T150000
DTSTAMP:20260422T091748
CREATED:20211020T010219Z
LAST-MODIFIED:20211020T010907Z
UID:10001070-1634990400-1635001200@www.princewilliamdemocrats.com
SUMMARY:Grassroots Event with President Barack Obama and Terry McAuliffe
DESCRIPTION:For More Details: Click Here \n\n\n\nJoin former President Barack Obama and Terry McAuliffe for a grassroots event to get out the vote in Richmond on Saturday\, October 23rd. \n\n\n\nTickets are required due to limited space. RSVP through Mobilize is required for attendance\, but does not guarantee a ticket. \n\n\n\nBy RSVPing for this event\, you are attesting that you are fully vaccinated against COVID-19 (14 days or more from completing an FDA-authorized vaccination if 12 years of age or older) and will comply with all local regulations and university policies. \n\n\n\nThis outdoor grassroots event will comply with Virginia Commonwealth University’s COVID-19 policy requiring masks for all events larger than 50 attendees regardless of vaccination status. This policy applies to both indoor and outdoor events. \n\n\n\nSigns are not permitted at this event.
URL:https://www.princewilliamdemocrats.com/event/2021-10-23-12pm-grassroots-event-with-president-barack-obama-and-terry-mcauliffe/
LOCATION:The Compass\, 901 Park Avenue\, Richmond\, VA\, 23284\, United States
CATEGORIES:Virginia Democratic Event
ATTACH;FMTTYPE=image/jpeg:https://www.princewilliamdemocrats.com/wp-content/uploads/2021/10/2021-grassroots-event-with-president-barack-obama-and-terry-mcauliffe.jpeg
END:VEVENT
BEGIN:VEVENT
DTSTART;TZID=UTC:20211023T130000
DTEND;TZID=UTC:20211023T150000
DTSTAMP:20260422T091748
CREATED:20211009T232401Z
LAST-MODIFIED:20211009T232422Z
UID:10001271-1634994000-1635001200@www.princewilliamdemocrats.com
SUMMARY:Canvass and Coffee with Team King on Saturday Mornings!
DESCRIPTION:For More Details: Click Here \nJoin us for a canvass in House District 2 to talk with your neighbors about the issues that are important to them — and why Candi King\, Terry McAuliffe\, Hala Ayala\, and Mark Herring are the right people to move Virginia forward in 2021! \nPlease be mindful of COVID-19 safety protocols; all volunteers must be vaccinated or fully compliant with CDC guidance including\, wearing a mask\, and social distancing.
URL:https://www.princewilliamdemocrats.com/event/2021-10-23-1pm-canvass-and-coffee-with-team-king-on-saturday-mornings/
CATEGORIES:Prince William County Canvass
ATTACH;FMTTYPE=image/jpeg:https://www.princewilliamdemocrats.com/wp-content/uploads/2021/10/2021-canvass-and-coffee-with-team-king.jpg
END:VEVENT
BEGIN:VEVENT
DTSTART;TZID=UTC:20211023T130000
DTEND;TZID=UTC:20211023T160000
DTSTAMP:20260422T091748
CREATED:20211005T021315Z
LAST-MODIFIED:20211005T021333Z
UID:10001244-1634994000-1635004800@www.princewilliamdemocrats.com
SUMMARY:Canvass With Team Maldonado
DESCRIPTION:For More Details: Click Here \nCome join Team Michelle Maldonado as we talk to voters across the 50th district to help elect her to the Virginia House of Delegates. \nA small training will take place before we hit the doors. We will be launching from our office at 9236 Mosby St\, Suite A\, Manassas\, VA 20110 \n 
URL:https://www.princewilliamdemocrats.com/event/2021-10-23-1pm-canvass-with-team-maldonado/
CATEGORIES:Prince William County Canvass
ATTACH;FMTTYPE=image/jpeg:https://www.princewilliamdemocrats.com/wp-content/uploads/2021/08/2021-canvass-with-team-maldonado.jpeg
END:VEVENT
BEGIN:VEVENT
DTSTART;TZID=UTC:20211023T140000
DTEND;TZID=UTC:20211023T160000
DTSTAMP:20260422T091748
CREATED:20211009T222544Z
LAST-MODIFIED:20211009T222615Z
UID:10001053-1634997600-1635004800@www.princewilliamdemocrats.com
SUMMARY:NoVa Virtual Phonebank for Democrats!
DESCRIPTION:For More Details: Click Here \nJoin us for our weekly virtual phonebanks to talk with your neighbors about the issues that are important to them — and why Terry McAuliffe\, Hala Ayala\, Mark Herring\, and their respective House Delegate are the right people to move Virginia forward in 2021! \nAs you know\, this election is going to be very competitive and we need to do our job of turning out every single vote to make sure we keep VA blue this November. Conversations with voters are the most powerful way to affect an election\, so the calls you make will make the difference in winning across the state in November. \nWe’ll start with a brief training so whether you’re a seasoned pro or have never gotten involved in politics before\, we have a place for you on this campaign. All you need is a computer or tablet and a phone! \nYou’ll get an email from us in advance with the Zoom link. See you soon!
URL:https://www.princewilliamdemocrats.com/event/2021-10-23-2pm-nova-virtual-phonebank-for-democrats/
CATEGORIES:Prince William County Democratic Phone Bank Event
ATTACH;FMTTYPE=image/jpeg:https://www.princewilliamdemocrats.com/wp-content/uploads/2021/10/2021-nova-phonebank-for-democrats.jpg
END:VEVENT
END:VCALENDAR