BEGIN:VCALENDAR
VERSION:2.0
PRODID:-//Prince William County Democrats - ECPv6.15.20//NONSGML v1.0//EN
CALSCALE:GREGORIAN
METHOD:PUBLISH
X-ORIGINAL-URL:https://www.princewilliamdemocrats.com
X-WR-CALDESC:Events for Prince William County Democrats
REFRESH-INTERVAL;VALUE=DURATION:PT1H
X-Robots-Tag:noindex
X-PUBLISHED-TTL:PT1H
BEGIN:VTIMEZONE
TZID:UTC
BEGIN:STANDARD
TZOFFSETFROM:+0000
TZOFFSETTO:+0000
TZNAME:UTC
DTSTART:20200101T000000
END:STANDARD
END:VTIMEZONE
BEGIN:VEVENT
DTSTART;TZID=UTC:20211014T173000
DTEND;TZID=UTC:20211014T193000
DTSTAMP:20260422T091918
CREATED:20211009T221257Z
LAST-MODIFIED:20211009T221257Z
UID:10001044-1634232600-1634239800@www.princewilliamdemocrats.com
SUMMARY:NoVa Virtual Phonebank for Democrats!
DESCRIPTION:For More Details: Click Here \nJoin us for our weekly virtual phonebanks to talk with your neighbors about the issues that are important to them — and why Terry McAuliffe\, Hala Ayala\, Mark Herring\, and their respective House Delegate are the right people to move Virginia forward in 2021! \nAs you know\, this election is going to be very competitive and we need to do our job of turning out every single vote to make sure we keep VA blue this November. Conversations with voters are the most powerful way to affect an election\, so the calls you make will make the difference in winning across the state in November. \nWe’ll start with a brief training so whether you’re a seasoned pro or have never gotten involved in politics before\, we have a place for you on this campaign. All you need is a computer or tablet and a phone! \nYou’ll get an email from us in advance with the Zoom link. See you soon!
URL:https://www.princewilliamdemocrats.com/event/2021-10-14-530pm-nova-virtual-phonebank-for-democrats/
CATEGORIES:Prince William County Democratic Phone Bank Event
ATTACH;FMTTYPE=image/jpeg:https://www.princewilliamdemocrats.com/wp-content/uploads/2021/10/2021-nova-phonebank-for-democrats.jpg
END:VEVENT
BEGIN:VEVENT
DTSTART;TZID=UTC:20211014T193000
DTEND;TZID=UTC:20211014T203000
DTSTAMP:20260422T091918
CREATED:20211015T002235Z
LAST-MODIFIED:20211015T002235Z
UID:10001297-1634239800-1634243400@www.princewilliamdemocrats.com
SUMMARY:Potomac District presents Hispanic Heritage Month Celebration
DESCRIPTION:To View Virtual Meeting: Click Here
URL:https://www.princewilliamdemocrats.com/event/2021-10-14-730pm-potomac-district-presents-hispanic-heritage-month-celebration/
LOCATION:Virtual Event
CATEGORIES:Prince William County Supervisor Event
ATTACH;FMTTYPE=image/jpeg:https://www.princewilliamdemocrats.com/wp-content/uploads/2021/10/2021-andrea-bailey-hispanic-heritage-month-celebration.jpg
END:VEVENT
END:VCALENDAR