BEGIN:VCALENDAR
VERSION:2.0
PRODID:-//Prince William County Democrats - ECPv6.15.20//NONSGML v1.0//EN
CALSCALE:GREGORIAN
METHOD:PUBLISH
X-WR-CALNAME:Prince William County Democrats
X-ORIGINAL-URL:https://www.princewilliamdemocrats.com
X-WR-CALDESC:Events for Prince William County Democrats
REFRESH-INTERVAL;VALUE=DURATION:PT1H
X-Robots-Tag:noindex
X-PUBLISHED-TTL:PT1H
BEGIN:VTIMEZONE
TZID:UTC
BEGIN:STANDARD
TZOFFSETFROM:+0000
TZOFFSETTO:+0000
TZNAME:UTC
DTSTART:20200101T000000
END:STANDARD
END:VTIMEZONE
BEGIN:VEVENT
DTSTART;TZID=UTC:20211012T140000
DTEND;TZID=UTC:20211012T170000
DTSTAMP:20260422T091746
CREATED:20211005T013511Z
LAST-MODIFIED:20211005T013511Z
UID:10001227-1634047200-1634058000@www.princewilliamdemocrats.com
SUMMARY:Board of County Supervisors Meeting
DESCRIPTION:Board Of County Supervisors –  PWC Website (More Info Click Here) \n\nMeetings are at 2pm and 7:30pm (times and dates may change\, please check link above and agenda)\n\nSign Up To Speak (More Info Click Here) \n*Note: To sign up to speak virtually the deadline is the day before the meeting (Monday) at 5pm\, if you attend the meeting in person you can sign up the day of. \nPage Resources Include The Following \n\nLive Video\, Brief & Archives (More Info Click Here)\n\nBoard Agenda\nAgenda\nBriefs\nVideo Podcast\nArchive\n\n\nCurrent Agenda\nSpeak Up! Prince William\nMeeting Schedule\nDistrict Map\nRules of Procedures\nStatement of Economic Interest\nSign Up for eNotifications\nWho are Your Elected Officials\n\n*Because changes can occur\, please navigate to the above links for the most up to date times\, locations\, agendas and details about meetings.
URL:https://www.princewilliamdemocrats.com/event/2021-10-12-2pm-board-of-county-supervisors-meeting-2/
LOCATION:McCoart\, 1 County Complex Ct\, Woodbridge\, VA\, 22192\, United States
CATEGORIES:PWC Board of County Supervisors Meeting
ATTACH;FMTTYPE=image/png:https://www.princewilliamdemocrats.com/wp-content/uploads/2021/03/pwc-bocs-meetings.png
END:VEVENT
BEGIN:VEVENT
DTSTART;TZID=UTC:20211012T173000
DTEND;TZID=UTC:20211012T193000
DTSTAMP:20260422T091746
CREATED:20211009T220803Z
LAST-MODIFIED:20211009T221059Z
UID:10001255-1634059800-1634067000@www.princewilliamdemocrats.com
SUMMARY:NoVa Virtual Phonebank for Democrats!
DESCRIPTION:For More Details: Click Here \nJoin us for our weekly virtual phonebanks to talk with your neighbors about the issues that are important to them — and why Terry McAuliffe\, Hala Ayala\, Mark Herring\, and their respective House Delegate are the right people to move Virginia forward in 2021! \nAs you know\, this election is going to be very competitive and we need to do our job of turning out every single vote to make sure we keep VA blue this November. Conversations with voters are the most powerful way to affect an election\, so the calls you make will make the difference in winning across the state in November. \nWe’ll start with a brief training so whether you’re a seasoned pro or have never gotten involved in politics before\, we have a place for you on this campaign. All you need is a computer or tablet and a phone! \nYou’ll get an email from us in advance with the Zoom link. See you soon!
URL:https://www.princewilliamdemocrats.com/event/2021-10-12-530pm-nova-virtual-phonebank-for-democrats/
CATEGORIES:Prince William County Democratic Phone Bank Event
ATTACH;FMTTYPE=image/jpeg:https://www.princewilliamdemocrats.com/wp-content/uploads/2021/10/2021-nova-phonebank-for-democrats.jpg
END:VEVENT
BEGIN:VEVENT
DTSTART;TZID=UTC:20211012T200000
DTEND;TZID=UTC:20211012T210000
DTSTAMP:20260422T091746
CREATED:20211010T010922Z
LAST-MODIFIED:20211010T010946Z
UID:10001294-1634068800-1634072400@www.princewilliamdemocrats.com
SUMMARY:Join Hala Ayala and Laphonza Butler for a virtual celebration!
DESCRIPTION:For More Details: Click Here   \n\n\n\n314 Action Fund | A’shanti Gholar | EMILY’S List \n\n\n\nDLGA | Grassroots Democrats HQ \n\n\n\nHigher Heights | Latino Victory Fund | NOW VA \n\n\n\nPlanned Parenthood Virginia PAC \n\n\n\nPWC Democratic Women’s Caucus \n\n\n\nVirginia’s List | #VOTEPROCHOICE \n\n\n\nWomen of Color Coalition \n\n\n\nHost Committee in Formation \n\n\n\nInvite you to a virtual reception in support of \n\n\n\nHala Ayala \n\n\n\n  Democratic Nominee For Lt. Governor  \n\n\n\nfeaturing special guest \n\n\n\nLaphonza Butler \n\n\n\nPresident of EMILY’S List \n\n\n\nwith \n\n\n\nSecretary of State Katie Hobbs\, AZ \n\n\n\nLt. Governor Eleni Kounalakis\, CA \n\n\n\nLt. Governor Juliana Stratton\, IL \n\n\n\nLt. Governor Jacqueline Coleman\, KY \n\n\n\nLt. Governor Sabina Matos\, RI \n\n\n\nLt. Governor Molly Gray\, VT \n\n\n\nTuesday\, October 12\, 2021 \n\n\n\n8:00 pm – 9:00 pm est \n\n\n\nZoom Link Provided upon RSVP
URL:https://www.princewilliamdemocrats.com/event/2021-10-12-8pm-join-hala-ayala-and-laphonza-butler-for-a-virtual-celebration/
LOCATION:Virtual Event
CATEGORIES:Prince William County Democratic Event
ATTACH;FMTTYPE=image/jpeg:https://www.princewilliamdemocrats.com/wp-content/uploads/2021/10/2021-join-hala-ayala.jpg
END:VEVENT
END:VCALENDAR