BEGIN:VCALENDAR
VERSION:2.0
PRODID:-//Prince William County Democrats - ECPv6.15.20//NONSGML v1.0//EN
CALSCALE:GREGORIAN
METHOD:PUBLISH
X-ORIGINAL-URL:https://www.princewilliamdemocrats.com
X-WR-CALDESC:Events for Prince William County Democrats
REFRESH-INTERVAL;VALUE=DURATION:PT1H
X-Robots-Tag:noindex
X-PUBLISHED-TTL:PT1H
BEGIN:VTIMEZONE
TZID:UTC
BEGIN:STANDARD
TZOFFSETFROM:+0000
TZOFFSETTO:+0000
TZNAME:UTC
DTSTART:20200101T000000
END:STANDARD
END:VTIMEZONE
BEGIN:VEVENT
DTSTART;TZID=UTC:20211010T100000
DTEND;TZID=UTC:20211010T120000
DTSTAMP:20260422T091918
CREATED:20211009T224045Z
LAST-MODIFIED:20211009T224425Z
UID:10001259-1633860000-1633867200@www.princewilliamdemocrats.com
SUMMARY:Canvass Launch with the Potomac Dems + Team King!
DESCRIPTION:For More Details: Click Here \nJoin us for a canvass in Prince William County to talk with your neighbors about the issues that are important to them — and why Candi King\, Terry McAuliffe\, Hala Ayala\, and Mark Herring are the right people to move Virginia forward in 2021! \nPlease be mindful of COVID-19 safety protocols; all volunteers must be vaccinated or fully compliant with CDC guidance including\, wearing a mask\, and social distancing.
URL:https://www.princewilliamdemocrats.com/event/2021-10-10-10am-canvass-launch-with-the-potomac-dems-team-king/
CATEGORIES:Prince William County Canvass
ATTACH;FMTTYPE=image/jpeg:https://www.princewilliamdemocrats.com/wp-content/uploads/2021/10/2021-canvass-launch-delegate-candi-king.jpg
END:VEVENT
BEGIN:VEVENT
DTSTART;TZID=UTC:20211010T120000
DTEND;TZID=UTC:20211010T150000
DTSTAMP:20260422T091918
CREATED:20211006T014214Z
LAST-MODIFIED:20211006T014214Z
UID:10001249-1633867200-1633878000@www.princewilliamdemocrats.com
SUMMARY:Be The Change - Postcards For Change
DESCRIPTION:Prince William County Democratic Committee\nPostcards for Change\nPlease join Marian Patey at her home for a Postcards for Change session! Click on the button to sign up. Thank you! \nDate: 10/10/2021 (Sun.) \nTime: 12:00pm – 3:00pm EDT \nLocation: 10821 Moore Dr.\, Manassas\, VA
URL:https://www.princewilliamdemocrats.com/event/2021-10-10-12pm-be-the-change-postcards-for-change/
CATEGORIES:Prince William County Democratic Event
ATTACH;FMTTYPE=image/png:https://www.princewilliamdemocrats.com/wp-content/uploads/2021/10/2021-post-cards-for-change.png
END:VEVENT
BEGIN:VEVENT
DTSTART;TZID=UTC:20211010T130000
DTEND;TZID=UTC:20211010T160000
DTSTAMP:20260422T091918
CREATED:20211005T015958Z
LAST-MODIFIED:20211005T015958Z
UID:10001238-1633870800-1633881600@www.princewilliamdemocrats.com
SUMMARY:Canvass With Team Maldonado
DESCRIPTION:For More Details: Click Here \nCome join Team Michelle Maldonado as we talk to voters across the 50th district to help elect her to the Virginia House of Delegates. \nA small training will take place before we hit the doors. We will be launching from our office at 9236 Mosby St\, Suite A\, Manassas\, VA 20110 \n 
URL:https://www.princewilliamdemocrats.com/event/2021-10-10-1pm-canvass-with-team-maldonado/
CATEGORIES:Prince William County Canvass
ATTACH;FMTTYPE=image/jpeg:https://www.princewilliamdemocrats.com/wp-content/uploads/2021/08/2021-canvass-with-team-maldonado.jpeg
END:VEVENT
BEGIN:VEVENT
DTSTART;TZID=UTC:20211010T130000
DTEND;TZID=UTC:20211010T160000
DTSTAMP:20260422T091918
CREATED:20211010T002946Z
LAST-MODIFIED:20211010T002946Z
UID:10001281-1633870800-1633881600@www.princewilliamdemocrats.com
SUMMARY:Canvass for Danica Roem for Delegate in Gainesville
DESCRIPTION:For More Details: Click Here \nCanvass for Team Danica in Manassas! Help remind voters of Virginia’s elections and get them out to vote to re-elect Danica. Event will include a training from our team and then you will get a packet of doors to knock. Come by yourself or with a group! No experience necessary.
URL:https://www.princewilliamdemocrats.com/event/2021-10-10-1pm-canvass-for-danica-roem-for-delegate-in-gainesville/
CATEGORIES:Prince William County Canvass
ATTACH;FMTTYPE=image/png:https://www.princewilliamdemocrats.com/wp-content/uploads/2021/10/2021-canvass-for-danica-roem-in-gainesville.png
END:VEVENT
BEGIN:VEVENT
DTSTART;TZID=UTC:20211010T140000
DTEND;TZID=UTC:20211010T160000
DTSTAMP:20260422T091918
CREATED:20211009T220152Z
LAST-MODIFIED:20211009T220152Z
UID:10001251-1633874400-1633881600@www.princewilliamdemocrats.com
SUMMARY:NoVa Virtual Phonebank for Democrats!
DESCRIPTION:For More Details: Click Here \nJoin us for our weekly virtual phonebanks to talk with your neighbors about the issues that are important to them — and why Terry McAuliffe\, Hala Ayala\, Mark Herring\, and their respective House Delegate are the right people to move Virginia forward in 2021! \nAs you know\, this election is going to be very competitive and we need to do our job of turning out every single vote to make sure we keep VA blue this November. Conversations with voters are the most powerful way to affect an election\, so the calls you make will make the difference in winning across the state in November. \nWe’ll start with a brief training so whether you’re a seasoned pro or have never gotten involved in politics before\, we have a place for you on this campaign. All you need is a computer or tablet and a phone! \nYou’ll get an email from us in advance with the Zoom link. See you soon!
URL:https://www.princewilliamdemocrats.com/event/2021-10-10-2pm-nova-virtual-phonebank-for-democrats/
CATEGORIES:Prince William County Democratic Phone Bank Event
ATTACH;FMTTYPE=image/jpeg:https://www.princewilliamdemocrats.com/wp-content/uploads/2021/10/2021-nova-phonebank-for-democrats.jpg
END:VEVENT
BEGIN:VEVENT
DTSTART;TZID=UTC:20211010T160000
DTEND;TZID=UTC:20211010T190000
DTSTAMP:20260422T091918
CREATED:20211010T003046Z
LAST-MODIFIED:20211010T003139Z
UID:10001283-1633881600-1633892400@www.princewilliamdemocrats.com
SUMMARY:Canvass for Danica Roem for Delegate in Gainesville
DESCRIPTION:For More Details: Click Here \nCanvass for Team Danica in Manassas! Help remind voters of Virginia’s elections and get them out to vote to re-elect Danica. Event will include a training from our team and then you will get a packet of doors to knock. Come by yourself or with a group! No experience necessary.
URL:https://www.princewilliamdemocrats.com/event/2021-10-10-4pm-canvass-for-danica-roem-for-delegate-in-gainesville/
CATEGORIES:Prince William County Canvass
ATTACH;FMTTYPE=image/png:https://www.princewilliamdemocrats.com/wp-content/uploads/2021/10/2021-canvass-for-danica-roem-in-gainesville.png
END:VEVENT
BEGIN:VEVENT
DTSTART;TZID=UTC:20211010T173000
DTEND;TZID=UTC:20211010T193000
DTSTAMP:20260422T091918
CREATED:20211009T220354Z
LAST-MODIFIED:20211009T220354Z
UID:10001253-1633887000-1633894200@www.princewilliamdemocrats.com
SUMMARY:NoVa Virtual Phonebank for Democrats!
DESCRIPTION:For More Details: Click Here \nJoin us for our weekly virtual phonebanks to talk with your neighbors about the issues that are important to them — and why Terry McAuliffe\, Hala Ayala\, Mark Herring\, and their respective House Delegate are the right people to move Virginia forward in 2021! \nAs you know\, this election is going to be very competitive and we need to do our job of turning out every single vote to make sure we keep VA blue this November. Conversations with voters are the most powerful way to affect an election\, so the calls you make will make the difference in winning across the state in November. \nWe’ll start with a brief training so whether you’re a seasoned pro or have never gotten involved in politics before\, we have a place for you on this campaign. All you need is a computer or tablet and a phone! \nYou’ll get an email from us in advance with the Zoom link. See you soon!
URL:https://www.princewilliamdemocrats.com/event/2021-10-10-530pm-nova-virtual-phonebank-for-democrats/
CATEGORIES:Prince William County Democratic Phone Bank Event
ATTACH;FMTTYPE=image/jpeg:https://www.princewilliamdemocrats.com/wp-content/uploads/2021/10/2021-nova-phonebank-for-democrats.jpg
END:VEVENT
BEGIN:VEVENT
DTSTART;TZID=UTC:20211010T190000
DTEND;TZID=UTC:20211010T210000
DTSTAMP:20260422T091918
CREATED:20210722T183157Z
LAST-MODIFIED:20210722T183230Z
UID:10000997-1633892400-1633899600@www.princewilliamdemocrats.com
SUMMARY:Masquerade Mayors Ball
DESCRIPTION:Masquerade Mayors Ball
URL:https://www.princewilliamdemocrats.com/event/2021-10-10-7pm-masquerade-mayors-ball/
CATEGORIES:Prince William County Democratic Event
ATTACH;FMTTYPE=image/png:https://www.princewilliamdemocrats.com/wp-content/uploads/2021/07/2021-masquerade-mayor-ball-mayor-wood.png
END:VEVENT
END:VCALENDAR