BEGIN:VCALENDAR
VERSION:2.0
PRODID:-//Prince William County Democrats - ECPv6.15.20//NONSGML v1.0//EN
CALSCALE:GREGORIAN
METHOD:PUBLISH
X-WR-CALNAME:Prince William County Democrats
X-ORIGINAL-URL:https://www.princewilliamdemocrats.com
X-WR-CALDESC:Events for Prince William County Democrats
REFRESH-INTERVAL;VALUE=DURATION:PT1H
X-Robots-Tag:noindex
X-PUBLISHED-TTL:PT1H
BEGIN:VTIMEZONE
TZID:UTC
BEGIN:STANDARD
TZOFFSETFROM:+0000
TZOFFSETTO:+0000
TZNAME:UTC
DTSTART:20200101T000000
END:STANDARD
END:VTIMEZONE
BEGIN:VEVENT
DTSTART;VALUE=DATE:20211003
DTEND;VALUE=DATE:20211004
DTSTAMP:20260422T075514
CREATED:20211006T010335Z
LAST-MODIFIED:20211006T010335Z
UID:10001247-1633219200-1633305599@www.princewilliamdemocrats.com
SUMMARY:Woodbridge Dems Day of Action with Team King Seiu
DESCRIPTION:#Knocktober is upon us!  Come join the #PWCDems for canvassing this weekend\, Oct 2-3rd. We need to come out strong for our VA House candidates so we keep our Democratic majority \n\n\nDelegate Candi King (HD-2):\nhttps://www.mobilize.us/candikingforva/event/418383\n\n\n\nDelegate Suhas Subramanyam (HD-87):\nhttps://www.mobilize.us/mobilize/event/416169/\n\n\n\nDelegate Briana Sewell (HD-51):\nhttps://www.mobilize.us/mobilize/event/416142/\n\n\n\nMichelle Maldonado (HD-50):\nhttps://www.mobilize.us/virginiaturnoutproject/event/418744/\nhttps://www.mobilize.us/mobilize/event/405852/\n\n\n\nDelegate Luke Torian (HD-52):\nhttps://www.mobilize.us/mobilize/event/406555/\n\n\n\nDelegate Danica Roem (HD-13):\nSat: https://www.mobilize.us/mobilize/event/403971/\nSat: https://www.mobilize.us/mobilize/event/403549/\nSun: https://www.mobilize.us/mobilize/event/417333/\n\n\n\nDelegate Dan Helmer (HD-40): (Fairfax Canvass)\nhttps://www.mobilize.us/mobilize/event/418522/\n\n\n\nDelegate Elizabeth Guzman (HD-31): (Fauquier Canvass)\nhttps://www.mobilize.us/mobilize/event/407397/
URL:https://www.princewilliamdemocrats.com/event/woodbridge-dems-day-of-action-with-team-king-seiu/
CATEGORIES:Prince William County Democratic Event
ATTACH;FMTTYPE=image/jpeg:https://www.princewilliamdemocrats.com/wp-content/uploads/2021/10/2021-woodbridge-dems-day.jpg
END:VEVENT
BEGIN:VEVENT
DTSTART;TZID=UTC:20211003T120000
DTEND;TZID=UTC:20211003T160000
DTSTAMP:20260422T075514
CREATED:20211006T011608Z
LAST-MODIFIED:20211006T011608Z
UID:10001248-1633262400-1633276800@www.princewilliamdemocrats.com
SUMMARY:Equality Prince William Pride 2021
DESCRIPTION:Equality Prince William welcomes you to come and celebrate Pride in the Greater Prince William County to include the Cities of Manassas and Manassas Park.\nWe are inviting you: our friends\, our families\, our neighbors to come out and enjoy music (both DJ and live)\, vendors\, kids activities\, and to have a great time.\n\nThis is a family-friendly event.\n\nThough we will not be selling food or drink at the event\, we are partnering with local restaurants for either Pride specials and/or dishes to enjoy.\n\nPlease either indicate you are “Going” or “Interested” in this event to keep up to date on who will be here and any other announcements.\n\nIf you are interested in being either a vendor or a sponsor for the event\, then please contact Amy Salvato Cannon (amy.epw.pride@gmail.com). The forms have been uploaded to the Group:\nPride 2021 Rules 07072021.pdf\nPride 2021 Vendor App 07072021.pdf\nPride 2021 Sponsorship 07072021.pdf\n\nFor any questions\, you can contact anyone on the Equality Prince William Board:\nPresident\, Jim O’Connor\nVice President\, David Dooley Jr.\nTreasurer\, Cindy Kuhn Jackson\nSecretary\, Amy Salvato Cannon\nMembers at Large:\nTom Osina\nHank Odum\nTeri Fischer\nDeanna Bayer\nBrad Staton\nSpecial shout out to Liza Cobbs and her family (though you are no longer here in person – you are here in our hearts)!\n———————————————\nWhat does it mean to be part of Equality Prince William? It means you agree the LGBTQ+ Community in Prince William County and the Cities of Manassas and Manassas Park need a voice. Help make Prince William County a more welcoming\, more diverse\, more inclusive place to live and to work.
URL:https://www.princewilliamdemocrats.com/event/2021-10-03-12pm-equality-prince-william-pride-2021/
LOCATION:Harris Pavilion\, 9201 Center St.\, Manassas\, VA\, 20110\, United States
CATEGORIES:Prince William County Event
ATTACH;FMTTYPE=image/jpeg:https://www.princewilliamdemocrats.com/wp-content/uploads/2021/10/2021-equality-prince-william-pride-2021.jpg
END:VEVENT
BEGIN:VEVENT
DTSTART;TZID=UTC:20211003T163000
DTEND;TZID=UTC:20211003T183000
DTSTAMP:20260422T075514
CREATED:20210929T212409Z
LAST-MODIFIED:20210929T212409Z
UID:10001213-1633278600-1633285800@www.princewilliamdemocrats.com
SUMMARY:Meet and Greet with Terry McAuliffe and Hala Ayala
DESCRIPTION:
URL:https://www.princewilliamdemocrats.com/event/2021-10-03-430pm-meet-and-greet-with-terry-mcauliffe-and-hala-ayala/
CATEGORIES:Prince William County Democratic Event
ATTACH;FMTTYPE=image/jpeg:https://www.princewilliamdemocrats.com/wp-content/uploads/2021/09/2021-terry-mcauliffe-and-hala-ayala-meet-and-greet.jpg
END:VEVENT
END:VCALENDAR