BEGIN:VCALENDAR
VERSION:2.0
PRODID:-//Prince William County Democrats - ECPv6.15.20//NONSGML v1.0//EN
CALSCALE:GREGORIAN
METHOD:PUBLISH
X-WR-CALNAME:Prince William County Democrats
X-ORIGINAL-URL:https://www.princewilliamdemocrats.com
X-WR-CALDESC:Events for Prince William County Democrats
REFRESH-INTERVAL;VALUE=DURATION:PT1H
X-Robots-Tag:noindex
X-PUBLISHED-TTL:PT1H
BEGIN:VTIMEZONE
TZID:UTC
BEGIN:STANDARD
TZOFFSETFROM:+0000
TZOFFSETTO:+0000
TZNAME:UTC
DTSTART:20200101T000000
END:STANDARD
END:VTIMEZONE
BEGIN:VEVENT
DTSTART;TZID=UTC:20210930T170000
DTEND;TZID=UTC:20210930T190000
DTSTAMP:20260422T075510
CREATED:20210926T141542Z
LAST-MODIFIED:20210926T141542Z
UID:10001027-1633021200-1633028400@www.princewilliamdemocrats.com
SUMMARY:Weekday Canvassing with Briana Sewell & VA Democrats
DESCRIPTION:For More Details: Click Here \nJoin us for a canvass launch where we’ll do a training and then go out and knock doors to talk with your neighbors about the issues that are important to them — and why Briana Sewell\, Terry McAuliffe\, Hala Ayala\, and Mark Herring are the right people to move Virginia forward in 2021! \nPlease be mindful of COVID-19 safety protocols; all volunteers must be vaccinated or fully compliant with CDC guidance including\, wearing a mask\, and social distancing. \nWe’ll see you there! \n\nLocation \n\n\n\n9329 Battle St\n\nManassas\, VA 20110
URL:https://www.princewilliamdemocrats.com/event/2021-09-30-5pm-2021-09-30-5pm-weekday-canvassing-with-briana-sewell-va-democrats/
CATEGORIES:Prince William County Democratic Event
ATTACH;FMTTYPE=image/jpeg:https://www.princewilliamdemocrats.com/wp-content/uploads/2021/09/2021-canvassing-for-briana-sewell-democrats.jpg
END:VEVENT
END:VCALENDAR