BEGIN:VCALENDAR
VERSION:2.0
PRODID:-//Prince William County Democrats - ECPv6.15.20//NONSGML v1.0//EN
CALSCALE:GREGORIAN
METHOD:PUBLISH
X-ORIGINAL-URL:https://www.princewilliamdemocrats.com
X-WR-CALDESC:Events for Prince William County Democrats
REFRESH-INTERVAL;VALUE=DURATION:PT1H
X-Robots-Tag:noindex
X-PUBLISHED-TTL:PT1H
BEGIN:VTIMEZONE
TZID:UTC
BEGIN:STANDARD
TZOFFSETFROM:+0000
TZOFFSETTO:+0000
TZNAME:UTC
DTSTART:20200101T000000
END:STANDARD
END:VTIMEZONE
BEGIN:VEVENT
DTSTART;TZID=UTC:20210929T170000
DTEND;TZID=UTC:20210929T190000
DTSTAMP:20260422T092035
CREATED:20210929T211113Z
LAST-MODIFIED:20210929T211131Z
UID:10001031-1632934800-1632942000@www.princewilliamdemocrats.com
SUMMARY:A Fundraiser for Michelle Maldonado featuring VA Education Secretary Atif Qarni
DESCRIPTION:For More Details: Click Here \nYou are invited to join us for a fundraiser for Michelle Maldonado for Delegate featuring our special guest Virginia Education Secretary Atif Qarni.
URL:https://www.princewilliamdemocrats.com/event/2021-09-29-5pm-a-fundraiser-for-michelle-maldonado-featuring-va-education-secretary-atif-qarni/
LOCATION:Social Soiree Event Venue\, 8270 Shopper Sq.\, Manassas\, VA\, United States
CATEGORIES:Prince William County Democratic Event
ATTACH;FMTTYPE=image/jpeg:https://www.princewilliamdemocrats.com/wp-content/uploads/2021/09/2021-michelle-maldonado-fundraiser.jpg
END:VEVENT
BEGIN:VEVENT
DTSTART;TZID=UTC:20210929T183000
DTEND;TZID=UTC:20210929T193000
DTSTAMP:20260422T092035
CREATED:20210926T170401Z
LAST-MODIFIED:20210926T170401Z
UID:10001029-1632940200-1632943800@www.princewilliamdemocrats.com
SUMMARY:Telling Hala's Story Training
DESCRIPTION:For More Details: Click Here \nWith less than fifty days until election day\, it’s more important than ever that voters across Virginia learn about Hala’s story and why she is the best person to serve as our next Lieutenant Governor. At this virtual event\, you’ll learn more about Hala’s story as a child of diverse and sometimes challenging backgrounds and her life as a hardworking single mom\, all helping shape who she is today. \nAfter the conclusion of our training\, you can help mobilize your community to not only cast their votes for Hala\, but also help strengthen our volunteer crew as we gear up in this final stretch of the campaign. \nJoin us at either of our two storytelling trainings on Wednesday night or Sunday afternoon (also a happy hour 🍹) to learn more about how you can be an effective voice for Team Hala.
URL:https://www.princewilliamdemocrats.com/event/2021-09-29-630pm-telling-halas-story-training/
LOCATION:Virtual Event
CATEGORIES:Prince William County Democratic Virtual Event
ATTACH;FMTTYPE=image/png:https://www.princewilliamdemocrats.com/wp-content/uploads/2021/09/2021-telling-hala-story-training.png
END:VEVENT
END:VCALENDAR