BEGIN:VCALENDAR
VERSION:2.0
PRODID:-//Prince William County Democrats - ECPv6.15.20//NONSGML v1.0//EN
CALSCALE:GREGORIAN
METHOD:PUBLISH
X-ORIGINAL-URL:https://www.princewilliamdemocrats.com
X-WR-CALDESC:Events for Prince William County Democrats
REFRESH-INTERVAL;VALUE=DURATION:PT1H
X-Robots-Tag:noindex
X-PUBLISHED-TTL:PT1H
BEGIN:VTIMEZONE
TZID:UTC
BEGIN:STANDARD
TZOFFSETFROM:+0000
TZOFFSETTO:+0000
TZNAME:UTC
DTSTART:20200101T000000
END:STANDARD
END:VTIMEZONE
BEGIN:VEVENT
DTSTART;TZID=UTC:20210927T190000
DTEND;TZID=UTC:20210927T200000
DTSTAMP:20260422T075526
CREATED:20210901T021337Z
LAST-MODIFIED:20210901T021337Z
UID:10001206-1632769200-1632772800@www.princewilliamdemocrats.com
SUMMARY:PWC Black Democratic Committee Monthly Meeting
DESCRIPTION:Please contact PWC Black Democratic Committee Leadership for additional details.
URL:https://www.princewilliamdemocrats.com/event/2021-09-27-7pm-pwc-black-democratic-committee-monthly-meeting/
LOCATION:Virtual Event
CATEGORIES:Democratic Black Caucus
ATTACH;FMTTYPE=image/jpeg:https://www.princewilliamdemocrats.com/wp-content/uploads/2021/02/democratic-monthly-meeting.jpg
END:VEVENT
BEGIN:VEVENT
DTSTART;TZID=UTC:20210927T193000
DTEND;TZID=UTC:20210927T203000
DTSTAMP:20260422T075526
CREATED:20210831T160746Z
LAST-MODIFIED:20210831T160903Z
UID:10001191-1632771000-1632774600@www.princewilliamdemocrats.com
SUMMARY:Brentsville District Monthly Meeting
DESCRIPTION:Please contact Brentsville District Leadership for additional details.
URL:https://www.princewilliamdemocrats.com/event/2021-09-27-730pm-brentsville-district-monthly-meeting/
LOCATION:Virtual Event
CATEGORIES:District Meeting
ATTACH;FMTTYPE=image/jpeg:https://www.princewilliamdemocrats.com/wp-content/uploads/2021/02/democratic-monthly-meeting.jpg
END:VEVENT
BEGIN:VEVENT
DTSTART;TZID=UTC:20210927T193000
DTEND;TZID=UTC:20210927T210000
DTSTAMP:20260422T075526
CREATED:20210831T160000Z
LAST-MODIFIED:20210917T022202Z
UID:10001186-1632771000-1632776400@www.princewilliamdemocrats.com
SUMMARY:Coles District Monthly Meeting
DESCRIPTION:Please contact Coles District Leadership for additional details.
URL:https://www.princewilliamdemocrats.com/event/2021-09-27-730pm-coles-district-monthly-meeting/
LOCATION:Virtual Event
CATEGORIES:District Meeting
ATTACH;FMTTYPE=image/jpeg:https://www.princewilliamdemocrats.com/wp-content/uploads/2021/02/democratic-monthly-meeting.jpg
END:VEVENT
END:VCALENDAR