BEGIN:VCALENDAR
VERSION:2.0
PRODID:-//Prince William County Democrats - ECPv6.15.20//NONSGML v1.0//EN
CALSCALE:GREGORIAN
METHOD:PUBLISH
X-WR-CALNAME:Prince William County Democrats
X-ORIGINAL-URL:https://www.princewilliamdemocrats.com
X-WR-CALDESC:Events for Prince William County Democrats
REFRESH-INTERVAL;VALUE=DURATION:PT1H
X-Robots-Tag:noindex
X-PUBLISHED-TTL:PT1H
BEGIN:VTIMEZONE
TZID:UTC
BEGIN:STANDARD
TZOFFSETFROM:+0000
TZOFFSETTO:+0000
TZNAME:UTC
DTSTART:20200101T000000
END:STANDARD
END:VTIMEZONE
BEGIN:VEVENT
DTSTART;TZID=UTC:20210926T130000
DTEND;TZID=UTC:20210926T160000
DTSTAMP:20260422T103922
CREATED:20210926T133112Z
LAST-MODIFIED:20210926T135933Z
UID:10001021-1632661200-1632672000@www.princewilliamdemocrats.com
SUMMARY:Canvass With Team Maldonado
DESCRIPTION:For More Details: Click Here \nCome join Team Michelle Maldonado\, Tim Demeria for Commissioner of The Revenue\, David Farajollahi for Manassas City Council and Patricia Richie-Folks for Treasurer for a joint canvass launch to talk to voters across Manassas! \nA small training will take place before we hit the doors. We will be launching from our office at 9236 Mosby St\, Suite A\, Manassas\, VA 20110
URL:https://www.princewilliamdemocrats.com/event/2021-09-26-1pm-canvass-with-team-maldonado/
LOCATION:Maldonado Office\, 9236 Mosby St\, Suite A\, Manassas\, VA\, 20110\, United States
CATEGORIES:Prince William County Democratic Event
ATTACH;FMTTYPE=image/png:https://www.princewilliamdemocrats.com/wp-content/uploads/2021/09/canvass-with-team-maldonado.png
END:VEVENT
BEGIN:VEVENT
DTSTART;TZID=UTC:20210926T130000
DTEND;TZID=UTC:20210926T160000
DTSTAMP:20260422T103922
CREATED:20210926T140517Z
LAST-MODIFIED:20210926T140517Z
UID:10001023-1632661200-1632672000@www.princewilliamdemocrats.com
SUMMARY:Gainesville and Haymarket Canvass for Democrats!
DESCRIPTION:For More Details: Click Here \nJoin us for a canvass launch where we’ll do a training and then go out and knock doors to talk with your neighbors about the issues that are important to them — and why Delegate Danica Roem\, Terry McAuliffe\, Hala Ayala\, and Mark Herring are the right people to move Virginia forward in 2021! \nPlease be mindful of COVID-19 safety protocols; all volunteers must be vaccinated or fully compliant with CDC guidance including\, wearing a mask\, and social distancing. \nIf you have any accessibility needs\, please let Izzy Thissell know by emailing ithissell@virginiaturnout.org or calling/texting (978)-935-8108 so that we can make sure the event will be accessible and comfortable for you. \nWe’ll see you there!
URL:https://www.princewilliamdemocrats.com/event/2021-09-26-1pm-gainesville-and-haymarket-canvass-for-democrats/
LOCATION:Glenkirk Elementary School\, 8584 Sedge Wren Dr\, Gainesville\, 20155\, United States
CATEGORIES:Prince William County Democratic Event
ATTACH;FMTTYPE=image/jpeg:https://www.princewilliamdemocrats.com/wp-content/uploads/2021/09/2021-gainesville-canvass-for-democrats.jpg
END:VEVENT
BEGIN:VEVENT
DTSTART;TZID=UTC:20210926T130000
DTEND;TZID=UTC:20210926T160000
DTSTAMP:20260422T103922
CREATED:20210926T140932Z
LAST-MODIFIED:20210926T140932Z
UID:10001025-1632661200-1632672000@www.princewilliamdemocrats.com
SUMMARY:Canvass for Danica Roem for Delegate in Gainesville
DESCRIPTION:For More Details: Click Here \nCanvass for Team Danica in Manassas! Help remind voters of Virginia’s elections and get them out to vote to re-elect Danica. Event will include a training from our team and then you will get a packet of doors to knock. Come by yourself or with a group! No experience necessary.
URL:https://www.princewilliamdemocrats.com/event/2021-09-26-1pm-canvass-for-danica-roem-for-delegate-in-gainesville/
CATEGORIES:Prince William County Democratic Event
ATTACH;FMTTYPE=image/png:https://www.princewilliamdemocrats.com/wp-content/uploads/2021/09/2021-danica-roem-canvass-sunday-sept-26th.png
END:VEVENT
END:VCALENDAR