BEGIN:VCALENDAR
VERSION:2.0
PRODID:-//Prince William County Democrats - ECPv6.15.20//NONSGML v1.0//EN
CALSCALE:GREGORIAN
METHOD:PUBLISH
X-ORIGINAL-URL:https://www.princewilliamdemocrats.com
X-WR-CALDESC:Events for Prince William County Democrats
REFRESH-INTERVAL;VALUE=DURATION:PT1H
X-Robots-Tag:noindex
X-PUBLISHED-TTL:PT1H
BEGIN:VTIMEZONE
TZID:UTC
BEGIN:STANDARD
TZOFFSETFROM:+0000
TZOFFSETTO:+0000
TZNAME:UTC
DTSTART:20200101T000000
END:STANDARD
END:VTIMEZONE
BEGIN:VEVENT
DTSTART;TZID=UTC:20210923T183000
DTEND;TZID=UTC:20210923T223000
DTSTAMP:20260422T092100
CREATED:20210906T195226Z
LAST-MODIFIED:20210906T201952Z
UID:10001209-1632421800-1632436200@www.princewilliamdemocrats.com
SUMMARY:Prince William County Racial and Social Justice Commission Meeting
DESCRIPTION:For More Details: Click Here
URL:https://www.princewilliamdemocrats.com/event/2021-09-23-630pm-attend-the-racial-social-justice-commission-meeting/
LOCATION:McCoart\, 1 County Complex Ct\, Woodbridge\, VA\, 22192\, United States
CATEGORIES:Prince William County Event
ATTACH;FMTTYPE=image/jpeg:https://www.princewilliamdemocrats.com/wp-content/uploads/2021/07/2021-racial-and-social-justic-commission.jpg
END:VEVENT
BEGIN:VEVENT
DTSTART;TZID=UTC:20210923T190000
DTEND;TZID=UTC:20210923T200000
DTSTAMP:20260422T092100
CREATED:20210831T160501Z
LAST-MODIFIED:20210831T160501Z
UID:10001190-1632423600-1632427200@www.princewilliamdemocrats.com
SUMMARY:PWC Democratic Monthly Meeting
DESCRIPTION:Please contact PWC Democratic Leadership for additional details.
URL:https://www.princewilliamdemocrats.com/event/2021-09-23-7pm-pwc-democratic-monthly-meeting/
LOCATION:Virtual Event
CATEGORIES:District Meeting
ATTACH;FMTTYPE=image/jpeg:https://www.princewilliamdemocrats.com/wp-content/uploads/2021/02/democratic-monthly-meeting.jpg
END:VEVENT
END:VCALENDAR